BEGIN:VCALENDAR
VERSION:2.0
PRODID:-//The Village Chicago - ECPv6.15.20//NONSGML v1.0//EN
CALSCALE:GREGORIAN
METHOD:PUBLISH
X-WR-CALNAME:The Village Chicago
X-ORIGINAL-URL:https://thevillagechicago.org
X-WR-CALDESC:Events for The Village Chicago
REFRESH-INTERVAL;VALUE=DURATION:PT1H
X-Robots-Tag:noindex
X-PUBLISHED-TTL:PT1H
BEGIN:VTIMEZONE
TZID:America/Chicago
BEGIN:DAYLIGHT
TZOFFSETFROM:-0600
TZOFFSETTO:-0500
TZNAME:CDT
DTSTART:20230312T080000
END:DAYLIGHT
BEGIN:STANDARD
TZOFFSETFROM:-0500
TZOFFSETTO:-0600
TZNAME:CST
DTSTART:20231105T070000
END:STANDARD
BEGIN:DAYLIGHT
TZOFFSETFROM:-0600
TZOFFSETTO:-0500
TZNAME:CDT
DTSTART:20240310T080000
END:DAYLIGHT
BEGIN:STANDARD
TZOFFSETFROM:-0500
TZOFFSETTO:-0600
TZNAME:CST
DTSTART:20241103T070000
END:STANDARD
BEGIN:DAYLIGHT
TZOFFSETFROM:-0600
TZOFFSETTO:-0500
TZNAME:CDT
DTSTART:20250309T080000
END:DAYLIGHT
BEGIN:STANDARD
TZOFFSETFROM:-0500
TZOFFSETTO:-0600
TZNAME:CST
DTSTART:20251102T070000
END:STANDARD
END:VTIMEZONE
BEGIN:VEVENT
DTSTART;TZID=America/Chicago:20241223T110000
DTEND;TZID=America/Chicago:20241223T120000
DTSTAMP:20260421T051008
CREATED:20241115T163557Z
LAST-MODIFIED:20241216T135201Z
UID:10002649-1734951600-1734955200@thevillagechicago.org
SUMMARY:Canceled: Art and Mindfulness: Get Out of Your Head and Into Making Art: Collage Making with Nancy Gordon
DESCRIPTION:Location: The Village Office (2502 N Clark) \nMembers & guests: free. \nDesigned to introduce you to using collage as a visual tool to: \n\nConnect with your creativity\nExplore your inner world\nExpress thoughts and feelings\nManage stress and elicit positive emotions\nGenerate insights and ideas to move you forward in life\n\nYou’ll also learn mindfulness and grounding exercises to help quiet your mind and focus on the present moment\, making collage creation more spontaneous and intuitive. This event is accessible.
URL:https://thevillagechicago.org/calender-events/art-and-mindfulness-get-out-of-your-head-and-into-making-art-collage-making-with-nancy-gordon/
LOCATION:Village Office\, 2502 N. Clark\, Chicago\, IL\, 60614\, United States
GEO:41.9278076;'-87.642021
X-APPLE-STRUCTURED-LOCATION;VALUE=URI;X-ADDRESS=Village Office 2502 N. Clark Chicago IL 60614 United States;X-APPLE-RADIUS=500;X-TITLE=2502 N. Clark:geo:'-87.642021,41.9278076
END:VEVENT
END:VCALENDAR