BEGIN:VCALENDAR
VERSION:2.0
PRODID:-//The Village Chicago - ECPv6.15.20//NONSGML v1.0//EN
CALSCALE:GREGORIAN
METHOD:PUBLISH
X-ORIGINAL-URL:https://thevillagechicago.org
X-WR-CALDESC:Events for The Village Chicago
REFRESH-INTERVAL;VALUE=DURATION:PT1H
X-Robots-Tag:noindex
X-PUBLISHED-TTL:PT1H
BEGIN:VTIMEZONE
TZID:America/Chicago
BEGIN:DAYLIGHT
TZOFFSETFROM:-0600
TZOFFSETTO:-0500
TZNAME:CDT
DTSTART:20240310T080000
END:DAYLIGHT
BEGIN:STANDARD
TZOFFSETFROM:-0500
TZOFFSETTO:-0600
TZNAME:CST
DTSTART:20241103T070000
END:STANDARD
BEGIN:DAYLIGHT
TZOFFSETFROM:-0600
TZOFFSETTO:-0500
TZNAME:CDT
DTSTART:20250309T080000
END:DAYLIGHT
BEGIN:STANDARD
TZOFFSETFROM:-0500
TZOFFSETTO:-0600
TZNAME:CST
DTSTART:20251102T070000
END:STANDARD
BEGIN:DAYLIGHT
TZOFFSETFROM:-0600
TZOFFSETTO:-0500
TZNAME:CDT
DTSTART:20260308T080000
END:DAYLIGHT
BEGIN:STANDARD
TZOFFSETFROM:-0500
TZOFFSETTO:-0600
TZNAME:CST
DTSTART:20261101T070000
END:STANDARD
END:VTIMEZONE
BEGIN:VEVENT
DTSTART;TZID=America/Chicago:20250331T110000
DTEND;TZID=America/Chicago:20250331T120000
DTSTAMP:20260425T071613
CREATED:20250203T202503Z
LAST-MODIFIED:20250328T181917Z
UID:10003096-1743418800-1743422400@thevillagechicago.org
SUMMARY:Art and Mindfulness: Get Out of Your Head and Into Making Art: Collage Making with Nancy Gordon
DESCRIPTION:Location: The Village Office (2502 N Clark)\n\n\nMembers & guests: free. \nDesigned to introduce you to using collage as a visual tool to: \n\nConnect with your creativity\nExplore your inner world\nExpress thoughts and feelings\nManage stress and elicit positive emotions\nGenerate insights and ideas to move you forward in life\n\nYou’ll also learn mindfulness and grounding exercises to help quiet your mind and focus on the present moment\, making collage creation more spontaneous and intuitive. This event is accessible.
URL:https://thevillagechicago.org/calender-events/art-and-mindfulness-get-out-of-your-head-and-into-making-art-collage-making-with-nancy-gordon-3/
LOCATION:Village Office\, 2502 N. Clark\, Chicago\, IL\, 60614\, United States
GEO:41.9278076;'-87.642021
X-APPLE-STRUCTURED-LOCATION;VALUE=URI;X-ADDRESS=Village Office 2502 N. Clark Chicago IL 60614 United States;X-APPLE-RADIUS=500;X-TITLE=2502 N. Clark:geo:'-87.642021,41.9278076
END:VEVENT
BEGIN:VEVENT
DTSTART;TZID=America/Chicago:20250331T130000
DTEND;TZID=America/Chicago:20250331T133000
DTSTAMP:20260425T071613
CREATED:20250206T163809Z
LAST-MODIFIED:20250313T193449Z
UID:10003111-1743426000-1743427800@thevillagechicago.org
SUMMARY:Mindful Monday
DESCRIPTION:Tune into our final of three “Mindful Monday” virtual sessions\, every other Monday in March we are focusing on mindfulness. Mindfulness refers to the act of focusing on the present moment. The Village Chicago has partnered with local mindfulness instructor and healthy aging specialist\, Cheri Stefanelli\, to guide these sessions. Whether you are new to the practice\, simply seeking ways to feel grounded in a chaotic environment\, or a mindfulness expert yourself- we welcome you to join these free sessions. \nAbout the Presenter: Cheri Stefanelli is a Holistic Wellness & Health Practitioner with expertise as a Healthy Aging Specialist\, IPEC Life Coach\, Fitness Professional\, Yoga E-RYT and Reiki Practitioner. She focuses on empowering individuals to achieve optimal well-being through a combination of coaching\, mindfulness\, fitness\, and holistic practices. With a passion for helping others thrive\, she also serves as a Community Health Educator and Meditation Instructor\, guiding people toward healthier\, more balanced lives.
URL:https://thevillagechicago.org/calender-events/mindful-monday-3/
LOCATION:IL
END:VEVENT
END:VCALENDAR