BEGIN:VCALENDAR
VERSION:2.0
PRODID:-//The Village Chicago - ECPv6.15.20//NONSGML v1.0//EN
CALSCALE:GREGORIAN
METHOD:PUBLISH
X-WR-CALNAME:The Village Chicago
X-ORIGINAL-URL:https://thevillagechicago.org
X-WR-CALDESC:Events for The Village Chicago
REFRESH-INTERVAL;VALUE=DURATION:PT1H
X-Robots-Tag:noindex
X-PUBLISHED-TTL:PT1H
BEGIN:VTIMEZONE
TZID:America/Chicago
BEGIN:DAYLIGHT
TZOFFSETFROM:-0600
TZOFFSETTO:-0500
TZNAME:CDT
DTSTART:20250309T080000
END:DAYLIGHT
BEGIN:STANDARD
TZOFFSETFROM:-0500
TZOFFSETTO:-0600
TZNAME:CST
DTSTART:20251102T070000
END:STANDARD
BEGIN:DAYLIGHT
TZOFFSETFROM:-0600
TZOFFSETTO:-0500
TZNAME:CDT
DTSTART:20260308T080000
END:DAYLIGHT
BEGIN:STANDARD
TZOFFSETFROM:-0500
TZOFFSETTO:-0600
TZNAME:CST
DTSTART:20261101T070000
END:STANDARD
BEGIN:DAYLIGHT
TZOFFSETFROM:-0600
TZOFFSETTO:-0500
TZNAME:CDT
DTSTART:20270314T080000
END:DAYLIGHT
BEGIN:STANDARD
TZOFFSETFROM:-0500
TZOFFSETTO:-0600
TZNAME:CST
DTSTART:20271107T070000
END:STANDARD
END:VTIMEZONE
BEGIN:VEVENT
DTSTART;TZID=America/Chicago:20260425T150000
DTEND;TZID=America/Chicago:20260425T160000
DTSTAMP:20260425T070327
CREATED:20260403T131302Z
LAST-MODIFIED:20260420T151827Z
UID:10004060-1777129200-1777132800@thevillagechicago.org
SUMMARY:Saturday Afternoon at the Movies
DESCRIPTION:  \nMembers & guests–free \nEvery Saturday afternoon\, join fellow film aficionados of the Village for an in-depth organic discussion of films new and old. Watch the selected film any time–or enjoy the discussion and be persuaded to view it after! \nThe AI Doc: Or How I Became an Apocaloptimist: 2026\, 104min\, Streaming on Amazon & others for $20\n\nWhat is A.i.? That’s the first question this new documentary asks\, Even the experts struggle to define it. But the more relevant questions appear to be what can it do\, what will it do\, and do we fear or embrace it. Join the soon-to-be-father documentarian as he talks to the leading experts about this exponentially expanding technology. The filmmakers of Everything\, Everywhere\, All at Once\, helped produce and direct.
URL:https://thevillagechicago.org/calender-events/saturday-afternoon-at-the-movies-101/
LOCATION:Zoom\, Chicago\, IL\, United States
GEO:41.8781136;'-87.6297982
END:VEVENT
END:VCALENDAR