BEGIN:VCALENDAR
VERSION:2.0
PRODID:-//The Village Chicago - ECPv6.15.20//NONSGML v1.0//EN
CALSCALE:GREGORIAN
METHOD:PUBLISH
X-WR-CALNAME:The Village Chicago
X-ORIGINAL-URL:https://thevillagechicago.org
X-WR-CALDESC:Events for The Village Chicago
REFRESH-INTERVAL;VALUE=DURATION:PT1H
X-Robots-Tag:noindex
X-PUBLISHED-TTL:PT1H
BEGIN:VTIMEZONE
TZID:America/Chicago
BEGIN:DAYLIGHT
TZOFFSETFROM:-0600
TZOFFSETTO:-0500
TZNAME:CDT
DTSTART:20250309T080000
END:DAYLIGHT
BEGIN:STANDARD
TZOFFSETFROM:-0500
TZOFFSETTO:-0600
TZNAME:CST
DTSTART:20251102T070000
END:STANDARD
BEGIN:DAYLIGHT
TZOFFSETFROM:-0600
TZOFFSETTO:-0500
TZNAME:CDT
DTSTART:20260308T080000
END:DAYLIGHT
BEGIN:STANDARD
TZOFFSETFROM:-0500
TZOFFSETTO:-0600
TZNAME:CST
DTSTART:20261101T070000
END:STANDARD
BEGIN:DAYLIGHT
TZOFFSETFROM:-0600
TZOFFSETTO:-0500
TZNAME:CDT
DTSTART:20270314T080000
END:DAYLIGHT
BEGIN:STANDARD
TZOFFSETFROM:-0500
TZOFFSETTO:-0600
TZNAME:CST
DTSTART:20271107T070000
END:STANDARD
BEGIN:DAYLIGHT
TZOFFSETFROM:-0600
TZOFFSETTO:-0500
TZNAME:CDT
DTSTART:20280312T080000
END:DAYLIGHT
BEGIN:STANDARD
TZOFFSETFROM:-0500
TZOFFSETTO:-0600
TZNAME:CST
DTSTART:20281105T070000
END:STANDARD
END:VTIMEZONE
BEGIN:VEVENT
DTSTART;TZID=America/Chicago:20260804T110000
DTEND;TZID=America/Chicago:20260804T120000
DTSTAMP:20260425T085051
CREATED:20240418T003059Z
LAST-MODIFIED:20260120T174849Z
UID:10000599-1785841200-1785844800@thevillagechicago.org
SUMMARY:Brain Spa
DESCRIPTION:Members & guests–free. RSVP below! \nThis is a virtual Zoom session held every other week\, open to anyone who would like to get connected to others\, practice skills and exercise their brain. Join us for puzzles and challenges\, storytelling and reminiscing in a comfortable and casual environment. These sessions will be an hour long and are meant to be fun and interactive. You don’t need to attend all sessions to participate\, feel free to drop in whenever you would like!
URL:https://thevillagechicago.org/calender-events/brain-spa/2026-08-04/
CATEGORIES:Brain health
END:VEVENT
BEGIN:VEVENT
DTSTART;TZID=America/Chicago:20260818T110000
DTEND;TZID=America/Chicago:20260818T120000
DTSTAMP:20260425T085051
CREATED:20240418T003059Z
LAST-MODIFIED:20260120T174849Z
UID:10000600-1787050800-1787054400@thevillagechicago.org
SUMMARY:Brain Spa
DESCRIPTION:Members & guests–free. RSVP below! \nThis is a virtual Zoom session held every other week\, open to anyone who would like to get connected to others\, practice skills and exercise their brain. Join us for puzzles and challenges\, storytelling and reminiscing in a comfortable and casual environment. These sessions will be an hour long and are meant to be fun and interactive. You don’t need to attend all sessions to participate\, feel free to drop in whenever you would like!
URL:https://thevillagechicago.org/calender-events/brain-spa/2026-08-18/
CATEGORIES:Brain health
END:VEVENT
BEGIN:VEVENT
DTSTART;TZID=America/Chicago:20260901T110000
DTEND;TZID=America/Chicago:20260901T120000
DTSTAMP:20260425T085051
CREATED:20240418T003059Z
LAST-MODIFIED:20260120T174849Z
UID:10000601-1788260400-1788264000@thevillagechicago.org
SUMMARY:Brain Spa
DESCRIPTION:Members & guests–free. RSVP below! \nThis is a virtual Zoom session held every other week\, open to anyone who would like to get connected to others\, practice skills and exercise their brain. Join us for puzzles and challenges\, storytelling and reminiscing in a comfortable and casual environment. These sessions will be an hour long and are meant to be fun and interactive. You don’t need to attend all sessions to participate\, feel free to drop in whenever you would like!
URL:https://thevillagechicago.org/calender-events/brain-spa/2026-09-01/
CATEGORIES:Brain health
END:VEVENT
BEGIN:VEVENT
DTSTART;TZID=America/Chicago:20260915T110000
DTEND;TZID=America/Chicago:20260915T120000
DTSTAMP:20260425T085051
CREATED:20240418T003059Z
LAST-MODIFIED:20260120T174849Z
UID:10000602-1789470000-1789473600@thevillagechicago.org
SUMMARY:Brain Spa
DESCRIPTION:Members & guests–free. RSVP below! \nThis is a virtual Zoom session held every other week\, open to anyone who would like to get connected to others\, practice skills and exercise their brain. Join us for puzzles and challenges\, storytelling and reminiscing in a comfortable and casual environment. These sessions will be an hour long and are meant to be fun and interactive. You don’t need to attend all sessions to participate\, feel free to drop in whenever you would like!
URL:https://thevillagechicago.org/calender-events/brain-spa/2026-09-15/
CATEGORIES:Brain health
END:VEVENT
BEGIN:VEVENT
DTSTART;TZID=America/Chicago:20260929T110000
DTEND;TZID=America/Chicago:20260929T120000
DTSTAMP:20260425T085051
CREATED:20240418T003059Z
LAST-MODIFIED:20260120T174849Z
UID:10000603-1790679600-1790683200@thevillagechicago.org
SUMMARY:Brain Spa
DESCRIPTION:Members & guests–free. RSVP below! \nThis is a virtual Zoom session held every other week\, open to anyone who would like to get connected to others\, practice skills and exercise their brain. Join us for puzzles and challenges\, storytelling and reminiscing in a comfortable and casual environment. These sessions will be an hour long and are meant to be fun and interactive. You don’t need to attend all sessions to participate\, feel free to drop in whenever you would like!
URL:https://thevillagechicago.org/calender-events/brain-spa/2026-09-29/
CATEGORIES:Brain health
END:VEVENT
BEGIN:VEVENT
DTSTART;TZID=America/Chicago:20261013T110000
DTEND;TZID=America/Chicago:20261013T120000
DTSTAMP:20260425T085051
CREATED:20240418T003059Z
LAST-MODIFIED:20260120T174849Z
UID:10000604-1791889200-1791892800@thevillagechicago.org
SUMMARY:Brain Spa
DESCRIPTION:Members & guests–free. RSVP below! \nThis is a virtual Zoom session held every other week\, open to anyone who would like to get connected to others\, practice skills and exercise their brain. Join us for puzzles and challenges\, storytelling and reminiscing in a comfortable and casual environment. These sessions will be an hour long and are meant to be fun and interactive. You don’t need to attend all sessions to participate\, feel free to drop in whenever you would like!
URL:https://thevillagechicago.org/calender-events/brain-spa/2026-10-13/
CATEGORIES:Brain health
END:VEVENT
BEGIN:VEVENT
DTSTART;TZID=America/Chicago:20261027T110000
DTEND;TZID=America/Chicago:20261027T120000
DTSTAMP:20260425T085051
CREATED:20240418T003059Z
LAST-MODIFIED:20260120T174849Z
UID:10000605-1793098800-1793102400@thevillagechicago.org
SUMMARY:Brain Spa
DESCRIPTION:Members & guests–free. RSVP below! \nThis is a virtual Zoom session held every other week\, open to anyone who would like to get connected to others\, practice skills and exercise their brain. Join us for puzzles and challenges\, storytelling and reminiscing in a comfortable and casual environment. These sessions will be an hour long and are meant to be fun and interactive. You don’t need to attend all sessions to participate\, feel free to drop in whenever you would like!
URL:https://thevillagechicago.org/calender-events/brain-spa/2026-10-27/
CATEGORIES:Brain health
END:VEVENT
BEGIN:VEVENT
DTSTART;TZID=America/Chicago:20261110T110000
DTEND;TZID=America/Chicago:20261110T120000
DTSTAMP:20260425T085051
CREATED:20240418T003059Z
LAST-MODIFIED:20260120T174849Z
UID:10000606-1794308400-1794312000@thevillagechicago.org
SUMMARY:Brain Spa
DESCRIPTION:Members & guests–free. RSVP below! \nThis is a virtual Zoom session held every other week\, open to anyone who would like to get connected to others\, practice skills and exercise their brain. Join us for puzzles and challenges\, storytelling and reminiscing in a comfortable and casual environment. These sessions will be an hour long and are meant to be fun and interactive. You don’t need to attend all sessions to participate\, feel free to drop in whenever you would like!
URL:https://thevillagechicago.org/calender-events/brain-spa/2026-11-10/
CATEGORIES:Brain health
END:VEVENT
BEGIN:VEVENT
DTSTART;TZID=America/Chicago:20261124T110000
DTEND;TZID=America/Chicago:20261124T120000
DTSTAMP:20260425T085051
CREATED:20240418T003059Z
LAST-MODIFIED:20260120T174849Z
UID:10000607-1795518000-1795521600@thevillagechicago.org
SUMMARY:Brain Spa
DESCRIPTION:Members & guests–free. RSVP below! \nThis is a virtual Zoom session held every other week\, open to anyone who would like to get connected to others\, practice skills and exercise their brain. Join us for puzzles and challenges\, storytelling and reminiscing in a comfortable and casual environment. These sessions will be an hour long and are meant to be fun and interactive. You don’t need to attend all sessions to participate\, feel free to drop in whenever you would like!
URL:https://thevillagechicago.org/calender-events/brain-spa/2026-11-24/
CATEGORIES:Brain health
END:VEVENT
BEGIN:VEVENT
DTSTART;TZID=America/Chicago:20261208T110000
DTEND;TZID=America/Chicago:20261208T120000
DTSTAMP:20260425T085051
CREATED:20240418T003059Z
LAST-MODIFIED:20260120T174849Z
UID:10000608-1796727600-1796731200@thevillagechicago.org
SUMMARY:Brain Spa
DESCRIPTION:Members & guests–free. RSVP below! \nThis is a virtual Zoom session held every other week\, open to anyone who would like to get connected to others\, practice skills and exercise their brain. Join us for puzzles and challenges\, storytelling and reminiscing in a comfortable and casual environment. These sessions will be an hour long and are meant to be fun and interactive. You don’t need to attend all sessions to participate\, feel free to drop in whenever you would like!
URL:https://thevillagechicago.org/calender-events/brain-spa/2026-12-08/
CATEGORIES:Brain health
END:VEVENT
BEGIN:VEVENT
DTSTART;TZID=America/Chicago:20261222T110000
DTEND;TZID=America/Chicago:20261222T120000
DTSTAMP:20260425T085051
CREATED:20240418T003059Z
LAST-MODIFIED:20260120T174849Z
UID:10000609-1797937200-1797940800@thevillagechicago.org
SUMMARY:Brain Spa
DESCRIPTION:Members & guests–free. RSVP below! \nThis is a virtual Zoom session held every other week\, open to anyone who would like to get connected to others\, practice skills and exercise their brain. Join us for puzzles and challenges\, storytelling and reminiscing in a comfortable and casual environment. These sessions will be an hour long and are meant to be fun and interactive. You don’t need to attend all sessions to participate\, feel free to drop in whenever you would like!
URL:https://thevillagechicago.org/calender-events/brain-spa/2026-12-22/
CATEGORIES:Brain health
END:VEVENT
BEGIN:VEVENT
DTSTART;TZID=America/Chicago:20270105T110000
DTEND;TZID=America/Chicago:20270105T120000
DTSTAMP:20260425T085051
CREATED:20240418T003059Z
LAST-MODIFIED:20260120T174849Z
UID:10000610-1799146800-1799150400@thevillagechicago.org
SUMMARY:Brain Spa
DESCRIPTION:Members & guests–free. RSVP below! \nThis is a virtual Zoom session held every other week\, open to anyone who would like to get connected to others\, practice skills and exercise their brain. Join us for puzzles and challenges\, storytelling and reminiscing in a comfortable and casual environment. These sessions will be an hour long and are meant to be fun and interactive. You don’t need to attend all sessions to participate\, feel free to drop in whenever you would like!
URL:https://thevillagechicago.org/calender-events/brain-spa/2027-01-05/
CATEGORIES:Brain health
END:VEVENT
BEGIN:VEVENT
DTSTART;TZID=America/Chicago:20270119T110000
DTEND;TZID=America/Chicago:20270119T120000
DTSTAMP:20260425T085051
CREATED:20240418T003059Z
LAST-MODIFIED:20260120T174849Z
UID:10000611-1800356400-1800360000@thevillagechicago.org
SUMMARY:Brain Spa
DESCRIPTION:Members & guests–free. RSVP below! \nThis is a virtual Zoom session held every other week\, open to anyone who would like to get connected to others\, practice skills and exercise their brain. Join us for puzzles and challenges\, storytelling and reminiscing in a comfortable and casual environment. These sessions will be an hour long and are meant to be fun and interactive. You don’t need to attend all sessions to participate\, feel free to drop in whenever you would like!
URL:https://thevillagechicago.org/calender-events/brain-spa/2027-01-19/
CATEGORIES:Brain health
END:VEVENT
BEGIN:VEVENT
DTSTART;TZID=America/Chicago:20270202T110000
DTEND;TZID=America/Chicago:20270202T120000
DTSTAMP:20260425T085051
CREATED:20240418T003059Z
LAST-MODIFIED:20260120T174849Z
UID:10000612-1801566000-1801569600@thevillagechicago.org
SUMMARY:Brain Spa
DESCRIPTION:Members & guests–free. RSVP below! \nThis is a virtual Zoom session held every other week\, open to anyone who would like to get connected to others\, practice skills and exercise their brain. Join us for puzzles and challenges\, storytelling and reminiscing in a comfortable and casual environment. These sessions will be an hour long and are meant to be fun and interactive. You don’t need to attend all sessions to participate\, feel free to drop in whenever you would like!
URL:https://thevillagechicago.org/calender-events/brain-spa/2027-02-02/
CATEGORIES:Brain health
END:VEVENT
BEGIN:VEVENT
DTSTART;TZID=America/Chicago:20270216T110000
DTEND;TZID=America/Chicago:20270216T120000
DTSTAMP:20260425T085051
CREATED:20240418T003059Z
LAST-MODIFIED:20260120T174849Z
UID:10000613-1802775600-1802779200@thevillagechicago.org
SUMMARY:Brain Spa
DESCRIPTION:Members & guests–free. RSVP below! \nThis is a virtual Zoom session held every other week\, open to anyone who would like to get connected to others\, practice skills and exercise their brain. Join us for puzzles and challenges\, storytelling and reminiscing in a comfortable and casual environment. These sessions will be an hour long and are meant to be fun and interactive. You don’t need to attend all sessions to participate\, feel free to drop in whenever you would like!
URL:https://thevillagechicago.org/calender-events/brain-spa/2027-02-16/
CATEGORIES:Brain health
END:VEVENT
BEGIN:VEVENT
DTSTART;TZID=America/Chicago:20270302T110000
DTEND;TZID=America/Chicago:20270302T120000
DTSTAMP:20260425T085051
CREATED:20240418T003059Z
LAST-MODIFIED:20260120T174849Z
UID:10000614-1803985200-1803988800@thevillagechicago.org
SUMMARY:Brain Spa
DESCRIPTION:Members & guests–free. RSVP below! \nThis is a virtual Zoom session held every other week\, open to anyone who would like to get connected to others\, practice skills and exercise their brain. Join us for puzzles and challenges\, storytelling and reminiscing in a comfortable and casual environment. These sessions will be an hour long and are meant to be fun and interactive. You don’t need to attend all sessions to participate\, feel free to drop in whenever you would like!
URL:https://thevillagechicago.org/calender-events/brain-spa/2027-03-02/
CATEGORIES:Brain health
END:VEVENT
BEGIN:VEVENT
DTSTART;TZID=America/Chicago:20270316T110000
DTEND;TZID=America/Chicago:20270316T120000
DTSTAMP:20260425T085051
CREATED:20240418T003059Z
LAST-MODIFIED:20260120T174849Z
UID:10000615-1805194800-1805198400@thevillagechicago.org
SUMMARY:Brain Spa
DESCRIPTION:Members & guests–free. RSVP below! \nThis is a virtual Zoom session held every other week\, open to anyone who would like to get connected to others\, practice skills and exercise their brain. Join us for puzzles and challenges\, storytelling and reminiscing in a comfortable and casual environment. These sessions will be an hour long and are meant to be fun and interactive. You don’t need to attend all sessions to participate\, feel free to drop in whenever you would like!
URL:https://thevillagechicago.org/calender-events/brain-spa/2027-03-16/
CATEGORIES:Brain health
END:VEVENT
BEGIN:VEVENT
DTSTART;TZID=America/Chicago:20270330T110000
DTEND;TZID=America/Chicago:20270330T120000
DTSTAMP:20260425T085051
CREATED:20240418T003059Z
LAST-MODIFIED:20260120T174849Z
UID:10000616-1806404400-1806408000@thevillagechicago.org
SUMMARY:Brain Spa
DESCRIPTION:Members & guests–free. RSVP below! \nThis is a virtual Zoom session held every other week\, open to anyone who would like to get connected to others\, practice skills and exercise their brain. Join us for puzzles and challenges\, storytelling and reminiscing in a comfortable and casual environment. These sessions will be an hour long and are meant to be fun and interactive. You don’t need to attend all sessions to participate\, feel free to drop in whenever you would like!
URL:https://thevillagechicago.org/calender-events/brain-spa/2027-03-30/
CATEGORIES:Brain health
END:VEVENT
BEGIN:VEVENT
DTSTART;TZID=America/Chicago:20270413T110000
DTEND;TZID=America/Chicago:20270413T120000
DTSTAMP:20260425T085051
CREATED:20240418T003059Z
LAST-MODIFIED:20260120T174849Z
UID:10000617-1807614000-1807617600@thevillagechicago.org
SUMMARY:Brain Spa
DESCRIPTION:Members & guests–free. RSVP below! \nThis is a virtual Zoom session held every other week\, open to anyone who would like to get connected to others\, practice skills and exercise their brain. Join us for puzzles and challenges\, storytelling and reminiscing in a comfortable and casual environment. These sessions will be an hour long and are meant to be fun and interactive. You don’t need to attend all sessions to participate\, feel free to drop in whenever you would like!
URL:https://thevillagechicago.org/calender-events/brain-spa/2027-04-13/
CATEGORIES:Brain health
END:VEVENT
BEGIN:VEVENT
DTSTART;TZID=America/Chicago:20270427T110000
DTEND;TZID=America/Chicago:20270427T120000
DTSTAMP:20260425T085051
CREATED:20240418T003059Z
LAST-MODIFIED:20260120T174849Z
UID:10000618-1808823600-1808827200@thevillagechicago.org
SUMMARY:Brain Spa
DESCRIPTION:Members & guests–free. RSVP below! \nThis is a virtual Zoom session held every other week\, open to anyone who would like to get connected to others\, practice skills and exercise their brain. Join us for puzzles and challenges\, storytelling and reminiscing in a comfortable and casual environment. These sessions will be an hour long and are meant to be fun and interactive. You don’t need to attend all sessions to participate\, feel free to drop in whenever you would like!
URL:https://thevillagechicago.org/calender-events/brain-spa/2027-04-27/
CATEGORIES:Brain health
END:VEVENT
BEGIN:VEVENT
DTSTART;TZID=America/Chicago:20270511T110000
DTEND;TZID=America/Chicago:20270511T120000
DTSTAMP:20260425T085051
CREATED:20240418T003059Z
LAST-MODIFIED:20260120T174849Z
UID:10000619-1810033200-1810036800@thevillagechicago.org
SUMMARY:Brain Spa
DESCRIPTION:Members & guests–free. RSVP below! \nThis is a virtual Zoom session held every other week\, open to anyone who would like to get connected to others\, practice skills and exercise their brain. Join us for puzzles and challenges\, storytelling and reminiscing in a comfortable and casual environment. These sessions will be an hour long and are meant to be fun and interactive. You don’t need to attend all sessions to participate\, feel free to drop in whenever you would like!
URL:https://thevillagechicago.org/calender-events/brain-spa/2027-05-11/
CATEGORIES:Brain health
END:VEVENT
BEGIN:VEVENT
DTSTART;TZID=America/Chicago:20270525T110000
DTEND;TZID=America/Chicago:20270525T120000
DTSTAMP:20260425T085051
CREATED:20240418T003059Z
LAST-MODIFIED:20260120T174849Z
UID:10000620-1811242800-1811246400@thevillagechicago.org
SUMMARY:Brain Spa
DESCRIPTION:Members & guests–free. RSVP below! \nThis is a virtual Zoom session held every other week\, open to anyone who would like to get connected to others\, practice skills and exercise their brain. Join us for puzzles and challenges\, storytelling and reminiscing in a comfortable and casual environment. These sessions will be an hour long and are meant to be fun and interactive. You don’t need to attend all sessions to participate\, feel free to drop in whenever you would like!
URL:https://thevillagechicago.org/calender-events/brain-spa/2027-05-25/
CATEGORIES:Brain health
END:VEVENT
BEGIN:VEVENT
DTSTART;TZID=America/Chicago:20270608T110000
DTEND;TZID=America/Chicago:20270608T120000
DTSTAMP:20260425T085051
CREATED:20240418T003059Z
LAST-MODIFIED:20260120T174849Z
UID:10000621-1812452400-1812456000@thevillagechicago.org
SUMMARY:Brain Spa
DESCRIPTION:Members & guests–free. RSVP below! \nThis is a virtual Zoom session held every other week\, open to anyone who would like to get connected to others\, practice skills and exercise their brain. Join us for puzzles and challenges\, storytelling and reminiscing in a comfortable and casual environment. These sessions will be an hour long and are meant to be fun and interactive. You don’t need to attend all sessions to participate\, feel free to drop in whenever you would like!
URL:https://thevillagechicago.org/calender-events/brain-spa/2027-06-08/
CATEGORIES:Brain health
END:VEVENT
BEGIN:VEVENT
DTSTART;TZID=America/Chicago:20270622T110000
DTEND;TZID=America/Chicago:20270622T120000
DTSTAMP:20260425T085051
CREATED:20240418T003059Z
LAST-MODIFIED:20260120T174849Z
UID:10000622-1813662000-1813665600@thevillagechicago.org
SUMMARY:Brain Spa
DESCRIPTION:Members & guests–free. RSVP below! \nThis is a virtual Zoom session held every other week\, open to anyone who would like to get connected to others\, practice skills and exercise their brain. Join us for puzzles and challenges\, storytelling and reminiscing in a comfortable and casual environment. These sessions will be an hour long and are meant to be fun and interactive. You don’t need to attend all sessions to participate\, feel free to drop in whenever you would like!
URL:https://thevillagechicago.org/calender-events/brain-spa/2027-06-22/
CATEGORIES:Brain health
END:VEVENT
BEGIN:VEVENT
DTSTART;TZID=America/Chicago:20270706T110000
DTEND;TZID=America/Chicago:20270706T120000
DTSTAMP:20260425T085051
CREATED:20240418T003059Z
LAST-MODIFIED:20260120T174849Z
UID:10000623-1814871600-1814875200@thevillagechicago.org
SUMMARY:Brain Spa
DESCRIPTION:Members & guests–free. RSVP below! \nThis is a virtual Zoom session held every other week\, open to anyone who would like to get connected to others\, practice skills and exercise their brain. Join us for puzzles and challenges\, storytelling and reminiscing in a comfortable and casual environment. These sessions will be an hour long and are meant to be fun and interactive. You don’t need to attend all sessions to participate\, feel free to drop in whenever you would like!
URL:https://thevillagechicago.org/calender-events/brain-spa/2027-07-06/
CATEGORIES:Brain health
END:VEVENT
BEGIN:VEVENT
DTSTART;TZID=America/Chicago:20270720T110000
DTEND;TZID=America/Chicago:20270720T120000
DTSTAMP:20260425T085051
CREATED:20240418T003059Z
LAST-MODIFIED:20260120T174849Z
UID:10000624-1816081200-1816084800@thevillagechicago.org
SUMMARY:Brain Spa
DESCRIPTION:Members & guests–free. RSVP below! \nThis is a virtual Zoom session held every other week\, open to anyone who would like to get connected to others\, practice skills and exercise their brain. Join us for puzzles and challenges\, storytelling and reminiscing in a comfortable and casual environment. These sessions will be an hour long and are meant to be fun and interactive. You don’t need to attend all sessions to participate\, feel free to drop in whenever you would like!
URL:https://thevillagechicago.org/calender-events/brain-spa/2027-07-20/
CATEGORIES:Brain health
END:VEVENT
BEGIN:VEVENT
DTSTART;TZID=America/Chicago:20270803T110000
DTEND;TZID=America/Chicago:20270803T120000
DTSTAMP:20260425T085051
CREATED:20240418T003059Z
LAST-MODIFIED:20260120T174849Z
UID:10000625-1817290800-1817294400@thevillagechicago.org
SUMMARY:Brain Spa
DESCRIPTION:Members & guests–free. RSVP below! \nThis is a virtual Zoom session held every other week\, open to anyone who would like to get connected to others\, practice skills and exercise their brain. Join us for puzzles and challenges\, storytelling and reminiscing in a comfortable and casual environment. These sessions will be an hour long and are meant to be fun and interactive. You don’t need to attend all sessions to participate\, feel free to drop in whenever you would like!
URL:https://thevillagechicago.org/calender-events/brain-spa/2027-08-03/
CATEGORIES:Brain health
END:VEVENT
BEGIN:VEVENT
DTSTART;TZID=America/Chicago:20270817T110000
DTEND;TZID=America/Chicago:20270817T120000
DTSTAMP:20260425T085051
CREATED:20240418T003059Z
LAST-MODIFIED:20260120T174849Z
UID:10000626-1818500400-1818504000@thevillagechicago.org
SUMMARY:Brain Spa
DESCRIPTION:Members & guests–free. RSVP below! \nThis is a virtual Zoom session held every other week\, open to anyone who would like to get connected to others\, practice skills and exercise their brain. Join us for puzzles and challenges\, storytelling and reminiscing in a comfortable and casual environment. These sessions will be an hour long and are meant to be fun and interactive. You don’t need to attend all sessions to participate\, feel free to drop in whenever you would like!
URL:https://thevillagechicago.org/calender-events/brain-spa/2027-08-17/
CATEGORIES:Brain health
END:VEVENT
BEGIN:VEVENT
DTSTART;TZID=America/Chicago:20270831T110000
DTEND;TZID=America/Chicago:20270831T120000
DTSTAMP:20260425T085051
CREATED:20240418T003059Z
LAST-MODIFIED:20260120T174849Z
UID:10000627-1819710000-1819713600@thevillagechicago.org
SUMMARY:Brain Spa
DESCRIPTION:Members & guests–free. RSVP below! \nThis is a virtual Zoom session held every other week\, open to anyone who would like to get connected to others\, practice skills and exercise their brain. Join us for puzzles and challenges\, storytelling and reminiscing in a comfortable and casual environment. These sessions will be an hour long and are meant to be fun and interactive. You don’t need to attend all sessions to participate\, feel free to drop in whenever you would like!
URL:https://thevillagechicago.org/calender-events/brain-spa/2027-08-31/
CATEGORIES:Brain health
END:VEVENT
BEGIN:VEVENT
DTSTART;TZID=America/Chicago:20270914T110000
DTEND;TZID=America/Chicago:20270914T120000
DTSTAMP:20260425T085051
CREATED:20240418T003059Z
LAST-MODIFIED:20260120T174849Z
UID:10000628-1820919600-1820923200@thevillagechicago.org
SUMMARY:Brain Spa
DESCRIPTION:Members & guests–free. RSVP below! \nThis is a virtual Zoom session held every other week\, open to anyone who would like to get connected to others\, practice skills and exercise their brain. Join us for puzzles and challenges\, storytelling and reminiscing in a comfortable and casual environment. These sessions will be an hour long and are meant to be fun and interactive. You don’t need to attend all sessions to participate\, feel free to drop in whenever you would like!
URL:https://thevillagechicago.org/calender-events/brain-spa/2027-09-14/
CATEGORIES:Brain health
END:VEVENT
END:VCALENDAR