BEGIN:VCALENDAR
VERSION:2.0
PRODID:-//The Village Chicago - ECPv6.15.20//NONSGML v1.0//EN
CALSCALE:GREGORIAN
METHOD:PUBLISH
X-ORIGINAL-URL:https://thevillagechicago.org
X-WR-CALDESC:Events for The Village Chicago
REFRESH-INTERVAL;VALUE=DURATION:PT1H
X-Robots-Tag:noindex
X-PUBLISHED-TTL:PT1H
BEGIN:VTIMEZONE
TZID:America/Chicago
BEGIN:DAYLIGHT
TZOFFSETFROM:-0600
TZOFFSETTO:-0500
TZNAME:CDT
DTSTART:20250309T080000
END:DAYLIGHT
BEGIN:STANDARD
TZOFFSETFROM:-0500
TZOFFSETTO:-0600
TZNAME:CST
DTSTART:20251102T070000
END:STANDARD
BEGIN:DAYLIGHT
TZOFFSETFROM:-0600
TZOFFSETTO:-0500
TZNAME:CDT
DTSTART:20260308T080000
END:DAYLIGHT
BEGIN:STANDARD
TZOFFSETFROM:-0500
TZOFFSETTO:-0600
TZNAME:CST
DTSTART:20261101T070000
END:STANDARD
BEGIN:DAYLIGHT
TZOFFSETFROM:-0600
TZOFFSETTO:-0500
TZNAME:CDT
DTSTART:20270314T080000
END:DAYLIGHT
BEGIN:STANDARD
TZOFFSETFROM:-0500
TZOFFSETTO:-0600
TZNAME:CST
DTSTART:20271107T070000
END:STANDARD
END:VTIMEZONE
BEGIN:VEVENT
DTSTART;TZID=America/Chicago:20260504T110000
DTEND;TZID=America/Chicago:20260504T120000
DTSTAMP:20260425T193916
CREATED:20260419T202334Z
LAST-MODIFIED:20260419T202334Z
UID:10004834-1777892400-1777896000@thevillagechicago.org
SUMMARY:Conversational Spanish
DESCRIPTION:Online registration for this event is now closed. Please call 773-248-8700 to register for this event. \nLocation: The Village Chicago office (2502 N Clark St) \n\n\nMembers & guests: free\n\nJoin member Ray Enriquez for a welcoming and informal Spanish conversation class. Various levels are welcome – this is a place to practice your spoken Spanish whether you are just beginning or more advanced. Space is limited – register now!
URL:https://thevillagechicago.org/calender-events/conversational-spanish-44/
LOCATION:Village Office\, 2502 N. Clark\, Chicago\, IL\, 60614\, United States
CATEGORIES:Brain health,Let's discuss it!
GEO:41.9278076;'-87.642021
X-APPLE-STRUCTURED-LOCATION;VALUE=URI;X-ADDRESS=Village Office 2502 N. Clark Chicago IL 60614 United States;X-APPLE-RADIUS=500;X-TITLE=2502 N. Clark:geo:'-87.642021,41.9278076
END:VEVENT
BEGIN:VEVENT
DTSTART;TZID=America/Chicago:20260506T190000
DTEND;TZID=America/Chicago:20260506T200000
DTSTAMP:20260425T193916
CREATED:20260403T132958Z
LAST-MODIFIED:20260417T142643Z
UID:10004815-1778094000-1778097600@thevillagechicago.org
SUMMARY:Great Books\, Great Conversations
DESCRIPTION:Location: via Zoom\n\n\n\nMembers and guests – Free! \nThis ongoing Village discussion group meets online the first Wednesday of each month to discuss a selection of short readings from an anthology published by The Great Books Foundation. Although the group has been meeting for years\, they are very welcoming to new members! \n\n“To Perpetual Peace: A Philosophical Sketch” by Immanuel Kant\nGreat Conversations Volume 4\nThe Great Books Foundation
URL:https://thevillagechicago.org/calender-events/great-books-great-conversations-20/
LOCATION:Zoom\, Chicago\, IL\, United States
CATEGORIES:Let's discuss it!
GEO:41.8781136;'-87.6297982
END:VEVENT
END:VCALENDAR