BEGIN:VCALENDAR
VERSION:2.0
PRODID:-//The Village Chicago - ECPv6.15.20//NONSGML v1.0//EN
CALSCALE:GREGORIAN
METHOD:PUBLISH
X-ORIGINAL-URL:https://thevillagechicago.org
X-WR-CALDESC:Events for The Village Chicago
REFRESH-INTERVAL;VALUE=DURATION:PT1H
X-Robots-Tag:noindex
X-PUBLISHED-TTL:PT1H
BEGIN:VTIMEZONE
TZID:America/Chicago
BEGIN:DAYLIGHT
TZOFFSETFROM:-0600
TZOFFSETTO:-0500
TZNAME:CDT
DTSTART:20250309T080000
END:DAYLIGHT
BEGIN:STANDARD
TZOFFSETFROM:-0500
TZOFFSETTO:-0600
TZNAME:CST
DTSTART:20251102T070000
END:STANDARD
BEGIN:DAYLIGHT
TZOFFSETFROM:-0600
TZOFFSETTO:-0500
TZNAME:CDT
DTSTART:20260308T080000
END:DAYLIGHT
BEGIN:STANDARD
TZOFFSETFROM:-0500
TZOFFSETTO:-0600
TZNAME:CST
DTSTART:20261101T070000
END:STANDARD
BEGIN:DAYLIGHT
TZOFFSETFROM:-0600
TZOFFSETTO:-0500
TZNAME:CDT
DTSTART:20270314T080000
END:DAYLIGHT
BEGIN:STANDARD
TZOFFSETFROM:-0500
TZOFFSETTO:-0600
TZNAME:CST
DTSTART:20271107T070000
END:STANDARD
END:VTIMEZONE
BEGIN:VEVENT
DTSTART;TZID=America/Chicago:20260312T150000
DTEND;TZID=America/Chicago:20260312T163000
DTSTAMP:20260423T100355
CREATED:20260204T152517Z
LAST-MODIFIED:20260206T181631Z
UID:10004711-1773327600-1773333000@thevillagechicago.org
SUMMARY:Memoir Workshop: From Memory to Story
DESCRIPTION:A six week series\nThursdays from 3-4:30pm\nMembers: $60. Non-members: $90 (click here to register)\nDo you have stories you’ve been meaning to write down\, but aren’t sure how to start? This memoir class uses guided prompts to generate new material\, short mini-lessons on craft\, and easy revision tools that show what’s working and what to strengthen. Sharing is always optional. By the end\, you’ll have a small portfolio of revised\, reader-ready pieces plus a practical method you can use anytime to turn memory into story.\n\nThe full list of dates are March 12\, 19\, 26; April 2\, 9\, 16\n\nSpace is limited – register now!
URL:https://thevillagechicago.org/calender-events/memoir-workshop-from-memory-to-story/2026-03-12/
LOCATION:The Village Chicago Office\, 2502 N Clark\, Chicago\, United States
CATEGORIES:The arts
GEO:41.927842;-87.642067
X-APPLE-STRUCTURED-LOCATION;VALUE=URI;X-ADDRESS=The Village Chicago Office 2502 N Clark Chicago United States;X-APPLE-RADIUS=500;X-TITLE=2502 N Clark:geo:-87.642067,41.927842
END:VEVENT
BEGIN:VEVENT
DTSTART;TZID=America/Chicago:20260315T140000
DTEND;TZID=America/Chicago:20260315T160000
DTSTAMP:20260423T100355
CREATED:20260127T222957Z
LAST-MODIFIED:20260312T215848Z
UID:10004701-1773583200-1773590400@thevillagechicago.org
SUMMARY:DePaul University Opera Theatre with The Life 3.0 Committee
DESCRIPTION:Registration for this event is now closed. \nDePaul University’s Opera Theatre will present Engelbert Humperdink’s beloved Hansel and Gretel\, in English\, in a Sunday afternoon matinee. 5 tickets are available at $10.00 each for this opera\, based on the Grimm Brother’s fairy tale. The opera features several memorable arias and duets\, telling a tale of poverty\, harsh parents\, disobedient children and confrontation with a ravenous witch. \nWe will gather for a self-hosted brunch at The Bad Apple at 12:30 pm before the performance.
URL:https://thevillagechicago.org/calender-events/depaul-university-opera-theatre-with-the-life-3-0-committee/
LOCATION:Jarvis Opera Hall\, Holtschneider Performance Center\, DePaul University\, 2330 N Halsted\, Chicago\, 60614
CATEGORIES:The arts
GEO:41.9246255;'-87.6490492
X-APPLE-STRUCTURED-LOCATION;VALUE=URI;X-ADDRESS=Jarvis Opera Hall Holtschneider Performance Center DePaul University 2330 N Halsted Chicago 60614;X-APPLE-RADIUS=500;X-TITLE=2330 N Halsted:geo:'-87.6490492,41.9246255
END:VEVENT
BEGIN:VEVENT
DTSTART;TZID=America/Chicago:20260319T150000
DTEND;TZID=America/Chicago:20260319T163000
DTSTAMP:20260423T100355
CREATED:20260204T152517Z
LAST-MODIFIED:20260206T181631Z
UID:10004712-1773932400-1773937800@thevillagechicago.org
SUMMARY:Memoir Workshop: From Memory to Story
DESCRIPTION:A six week series\nThursdays from 3-4:30pm\nMembers: $60. Non-members: $90 (click here to register)\nDo you have stories you’ve been meaning to write down\, but aren’t sure how to start? This memoir class uses guided prompts to generate new material\, short mini-lessons on craft\, and easy revision tools that show what’s working and what to strengthen. Sharing is always optional. By the end\, you’ll have a small portfolio of revised\, reader-ready pieces plus a practical method you can use anytime to turn memory into story.\n\nThe full list of dates are March 12\, 19\, 26; April 2\, 9\, 16\n\nSpace is limited – register now!
URL:https://thevillagechicago.org/calender-events/memoir-workshop-from-memory-to-story/2026-03-19/
LOCATION:The Village Chicago Office\, 2502 N Clark\, Chicago\, United States
CATEGORIES:The arts
GEO:41.927842;-87.642067
X-APPLE-STRUCTURED-LOCATION;VALUE=URI;X-ADDRESS=The Village Chicago Office 2502 N Clark Chicago United States;X-APPLE-RADIUS=500;X-TITLE=2502 N Clark:geo:-87.642067,41.927842
END:VEVENT
BEGIN:VEVENT
DTSTART;TZID=America/Chicago:20260325T100000
DTEND;TZID=America/Chicago:20260325T123000
DTSTAMP:20260423T100355
CREATED:20260302T210120Z
LAST-MODIFIED:20260302T210120Z
UID:10004777-1774432800-1774441800@thevillagechicago.org
SUMMARY:CSO Open Rehearsal
DESCRIPTION:Members & guests: free \nGet a look behind the scenes as the CSO rehearses the following program: \nRiccardo Muti conductor\nTchaikovsky Symphony No. 3 in D Major\, Op. 29 (Polish)\nRota Music from Il Gattopardo (The Leopard)\nRota Suite from The Godfather \nPlease note that there will be pauses throughout and may not be an intermission.
URL:https://thevillagechicago.org/calender-events/cso-open-rehearsal-4/
LOCATION:Symphony Center\, 220 S Michigan Ave.\, Chicago\, 60604\, United States
CATEGORIES:The arts
GEO:41.8789691;'-87.6250395
X-APPLE-STRUCTURED-LOCATION;VALUE=URI;X-ADDRESS=Symphony Center 220 S Michigan Ave. Chicago 60604 United States;X-APPLE-RADIUS=500;X-TITLE=220 S Michigan Ave.:geo:'-87.6250395,41.8789691
END:VEVENT
BEGIN:VEVENT
DTSTART;TZID=America/Chicago:20260326T150000
DTEND;TZID=America/Chicago:20260326T163000
DTSTAMP:20260423T100355
CREATED:20260204T152517Z
LAST-MODIFIED:20260206T181631Z
UID:10004713-1774537200-1774542600@thevillagechicago.org
SUMMARY:Memoir Workshop: From Memory to Story
DESCRIPTION:A six week series\nThursdays from 3-4:30pm\nMembers: $60. Non-members: $90 (click here to register)\nDo you have stories you’ve been meaning to write down\, but aren’t sure how to start? This memoir class uses guided prompts to generate new material\, short mini-lessons on craft\, and easy revision tools that show what’s working and what to strengthen. Sharing is always optional. By the end\, you’ll have a small portfolio of revised\, reader-ready pieces plus a practical method you can use anytime to turn memory into story.\n\nThe full list of dates are March 12\, 19\, 26; April 2\, 9\, 16\n\nSpace is limited – register now!
URL:https://thevillagechicago.org/calender-events/memoir-workshop-from-memory-to-story/2026-03-26/
LOCATION:The Village Chicago Office\, 2502 N Clark\, Chicago\, United States
CATEGORIES:The arts
GEO:41.927842;-87.642067
X-APPLE-STRUCTURED-LOCATION;VALUE=URI;X-ADDRESS=The Village Chicago Office 2502 N Clark Chicago United States;X-APPLE-RADIUS=500;X-TITLE=2502 N Clark:geo:-87.642067,41.927842
END:VEVENT
BEGIN:VEVENT
DTSTART;TZID=America/Chicago:20260402T150000
DTEND;TZID=America/Chicago:20260402T163000
DTSTAMP:20260423T100355
CREATED:20260204T152517Z
LAST-MODIFIED:20260206T181631Z
UID:10004714-1775142000-1775147400@thevillagechicago.org
SUMMARY:Memoir Workshop: From Memory to Story
DESCRIPTION:A six week series\nThursdays from 3-4:30pm\nMembers: $60. Non-members: $90 (click here to register)\nDo you have stories you’ve been meaning to write down\, but aren’t sure how to start? This memoir class uses guided prompts to generate new material\, short mini-lessons on craft\, and easy revision tools that show what’s working and what to strengthen. Sharing is always optional. By the end\, you’ll have a small portfolio of revised\, reader-ready pieces plus a practical method you can use anytime to turn memory into story.\n\nThe full list of dates are March 12\, 19\, 26; April 2\, 9\, 16\n\nSpace is limited – register now!
URL:https://thevillagechicago.org/calender-events/memoir-workshop-from-memory-to-story/2026-04-02/
LOCATION:The Village Chicago Office\, 2502 N Clark\, Chicago\, United States
CATEGORIES:The arts
GEO:41.927842;-87.642067
X-APPLE-STRUCTURED-LOCATION;VALUE=URI;X-ADDRESS=The Village Chicago Office 2502 N Clark Chicago United States;X-APPLE-RADIUS=500;X-TITLE=2502 N Clark:geo:-87.642067,41.927842
END:VEVENT
BEGIN:VEVENT
DTSTART;TZID=America/Chicago:20260409T150000
DTEND;TZID=America/Chicago:20260409T163000
DTSTAMP:20260423T100355
CREATED:20260204T152517Z
LAST-MODIFIED:20260206T181631Z
UID:10004715-1775746800-1775752200@thevillagechicago.org
SUMMARY:Memoir Workshop: From Memory to Story
DESCRIPTION:A six week series\nThursdays from 3-4:30pm\nMembers: $60. Non-members: $90 (click here to register)\nDo you have stories you’ve been meaning to write down\, but aren’t sure how to start? This memoir class uses guided prompts to generate new material\, short mini-lessons on craft\, and easy revision tools that show what’s working and what to strengthen. Sharing is always optional. By the end\, you’ll have a small portfolio of revised\, reader-ready pieces plus a practical method you can use anytime to turn memory into story.\n\nThe full list of dates are March 12\, 19\, 26; April 2\, 9\, 16\n\nSpace is limited – register now!
URL:https://thevillagechicago.org/calender-events/memoir-workshop-from-memory-to-story/2026-04-09/
LOCATION:The Village Chicago Office\, 2502 N Clark\, Chicago\, United States
CATEGORIES:The arts
GEO:41.927842;-87.642067
X-APPLE-STRUCTURED-LOCATION;VALUE=URI;X-ADDRESS=The Village Chicago Office 2502 N Clark Chicago United States;X-APPLE-RADIUS=500;X-TITLE=2502 N Clark:geo:-87.642067,41.927842
END:VEVENT
BEGIN:VEVENT
DTSTART;TZID=America/Chicago:20260416T150000
DTEND;TZID=America/Chicago:20260416T163000
DTSTAMP:20260423T100355
CREATED:20260204T152517Z
LAST-MODIFIED:20260206T181631Z
UID:10004716-1776351600-1776357000@thevillagechicago.org
SUMMARY:Memoir Workshop: From Memory to Story
DESCRIPTION:A six week series\nThursdays from 3-4:30pm\nMembers: $60. Non-members: $90 (click here to register)\nDo you have stories you’ve been meaning to write down\, but aren’t sure how to start? This memoir class uses guided prompts to generate new material\, short mini-lessons on craft\, and easy revision tools that show what’s working and what to strengthen. Sharing is always optional. By the end\, you’ll have a small portfolio of revised\, reader-ready pieces plus a practical method you can use anytime to turn memory into story.\n\nThe full list of dates are March 12\, 19\, 26; April 2\, 9\, 16\n\nSpace is limited – register now!
URL:https://thevillagechicago.org/calender-events/memoir-workshop-from-memory-to-story/2026-04-16/
LOCATION:The Village Chicago Office\, 2502 N Clark\, Chicago\, United States
CATEGORIES:The arts
GEO:41.927842;-87.642067
X-APPLE-STRUCTURED-LOCATION;VALUE=URI;X-ADDRESS=The Village Chicago Office 2502 N Clark Chicago United States;X-APPLE-RADIUS=500;X-TITLE=2502 N Clark:geo:-87.642067,41.927842
END:VEVENT
BEGIN:VEVENT
DTSTART;TZID=America/Chicago:20260617T133000
DTEND;TZID=America/Chicago:20260617T153000
DTSTAMP:20260423T100355
CREATED:20260408T174959Z
LAST-MODIFIED:20260408T174959Z
UID:10004822-1781703000-1781710200@thevillagechicago.org
SUMMARY:CSO Open Rehearsal
DESCRIPTION:Members & guests: free \nJoin us for the final open rehearsal of the season! The program will include the following: \nJoshua Weilerstein conductor\nMontgomery Banner\nMartinů The Rock\nCopland Lincoln Portrait\nIves Three Places in New England\nEllington Harlem \nPlease note that this is a working rehearsal that may include pauses throughout and no intermission.
URL:https://thevillagechicago.org/calender-events/cso-open-rehearsal-5/
LOCATION:Symphony Center\, 220 S Michigan Ave.\, Chicago\, 60604\, United States
CATEGORIES:The arts
GEO:41.8789691;'-87.6250395
X-APPLE-STRUCTURED-LOCATION;VALUE=URI;X-ADDRESS=Symphony Center 220 S Michigan Ave. Chicago 60604 United States;X-APPLE-RADIUS=500;X-TITLE=220 S Michigan Ave.:geo:'-87.6250395,41.8789691
END:VEVENT
END:VCALENDAR