BEGIN:VCALENDAR
VERSION:2.0
PRODID:-//The Village Chicago - ECPv6.15.20//NONSGML v1.0//EN
CALSCALE:GREGORIAN
METHOD:PUBLISH
X-WR-CALNAME:The Village Chicago
X-ORIGINAL-URL:https://thevillagechicago.org
X-WR-CALDESC:Events for The Village Chicago
REFRESH-INTERVAL;VALUE=DURATION:PT1H
X-Robots-Tag:noindex
X-PUBLISHED-TTL:PT1H
BEGIN:VTIMEZONE
TZID:America/Chicago
BEGIN:DAYLIGHT
TZOFFSETFROM:-0600
TZOFFSETTO:-0500
TZNAME:CDT
DTSTART:20230312T080000
END:DAYLIGHT
BEGIN:STANDARD
TZOFFSETFROM:-0500
TZOFFSETTO:-0600
TZNAME:CST
DTSTART:20231105T070000
END:STANDARD
BEGIN:DAYLIGHT
TZOFFSETFROM:-0600
TZOFFSETTO:-0500
TZNAME:CDT
DTSTART:20240310T080000
END:DAYLIGHT
BEGIN:STANDARD
TZOFFSETFROM:-0500
TZOFFSETTO:-0600
TZNAME:CST
DTSTART:20241103T070000
END:STANDARD
BEGIN:DAYLIGHT
TZOFFSETFROM:-0600
TZOFFSETTO:-0500
TZNAME:CDT
DTSTART:20250309T080000
END:DAYLIGHT
BEGIN:STANDARD
TZOFFSETFROM:-0500
TZOFFSETTO:-0600
TZNAME:CST
DTSTART:20251102T070000
END:STANDARD
END:VTIMEZONE
BEGIN:VEVENT
DTSTART;TZID=America/Chicago:20241112T110000
DTEND;TZID=America/Chicago:20241112T120000
DTSTAMP:20260421T050805
CREATED:20240418T003059Z
LAST-MODIFIED:20260120T174849Z
UID:10000554-1731409200-1731412800@thevillagechicago.org
SUMMARY:Brain Spa
DESCRIPTION:Members & guests–free. RSVP below! \nThis is a virtual Zoom session held every other week\, open to anyone who would like to get connected to others\, practice skills and exercise their brain. Join us for puzzles and challenges\, storytelling and reminiscing in a comfortable and casual environment. These sessions will be an hour long and are meant to be fun and interactive. You don’t need to attend all sessions to participate\, feel free to drop in whenever you would like!
URL:https://thevillagechicago.org/calender-events/brain-spa/2024-11-12/
LOCATION:IL
CATEGORIES:Brain health
END:VEVENT
BEGIN:VEVENT
DTSTART;TZID=America/Chicago:20241112T130000
DTEND;TZID=America/Chicago:20241112T140000
DTSTAMP:20260421T050805
CREATED:20240614T205730Z
LAST-MODIFIED:20240614T205915Z
UID:10001055-1731416400-1731420000@thevillagechicago.org
SUMMARY:Exercise at Home with Jill Stein
DESCRIPTION:Members & guests–$15* per class. Click here to register and you will receive details to join the class via Zoom. To join your first session for FREE\, please email celebrate@thevillagechicago.org. \nCome move your body and have fun! Work on functional/full body strength\,joint mobility\, posture\, balance\, pairing movement with breath\, and core strength. This one hour class starts with warm up movements\, moves to balance\, posture and resistance exercises\, and finishes with seated core and stretching exercises. \nClass is done standing\, using a wall and seated. Any standing movements can be mimicked in a chair if needed. Modify as needed\, or ask for alternative movements during demos. \nFor the class\, have a stable chair (like a dining table chair)\, and two light hand weights (two water bottles or two cans) to use for resistance exercises. Wear athletic shoes that secure onto your feet and have water to drink. Dress in clothes you can move in comfortably and dress in layers that are easy to remove if you get warm. \nAbout Jill Stein \nInstructor Jill Stein is a veteran group exercise instructor and personal trainer with over 20 years of experience and over 15 years experience working with older adults. \n 
URL:https://thevillagechicago.org/calender-events/exercise-at-home-with-jill-stein/2024-11-12/
LOCATION:IL
END:VEVENT
BEGIN:VEVENT
DTSTART;TZID=America/Chicago:20241113T110000
DTEND;TZID=America/Chicago:20241113T123000
DTSTAMP:20260421T050805
CREATED:20241016T195129Z
LAST-MODIFIED:20241016T195410Z
UID:10002148-1731495600-1731501000@thevillagechicago.org
SUMMARY:Men's Group: 2025 Planning Meeting
DESCRIPTION:Members & guests: free. \nThis November\, join the Men’s to plan for 2025! Anyone who has suggestions for events\, or would like to help us select events for 2025 is welcome to attend. \nVolunteers who would like to organize a meeting or who have contacts with people we might ask to make a presentation are especially welcome. Lunch will be provided. \nPlease register so we know how many people to prepare lunch for.
URL:https://thevillagechicago.org/calender-events/mens-group-2/
LOCATION:Belmont Village Lincoln Park\, 700 West Fullerton\, Chicago\, IL\, 60614\, United States
GEO:41.9258839;'-87.6469039
X-APPLE-STRUCTURED-LOCATION;VALUE=URI;X-ADDRESS=Belmont Village Lincoln Park 700 West Fullerton Chicago IL 60614 United States;X-APPLE-RADIUS=500;X-TITLE=700 West Fullerton:geo:'-87.6469039,41.9258839
END:VEVENT
BEGIN:VEVENT
DTSTART;TZID=America/Chicago:20241113T173000
DTEND;TZID=America/Chicago:20241113T190000
DTSTAMP:20260421T050805
CREATED:20241111T171339Z
LAST-MODIFIED:20241111T171339Z
UID:10002439-1731519000-1731524400@thevillagechicago.org
SUMMARY:Cocktail Hour\, with Performance by Pianist/Vocalist Mark Burnell
DESCRIPTION:Location: Village Members Home in Lincoln Park \nMembers & Guests: $18; Registration online has now closed for this event. Please email info@thevillagechicago.org or call 773-248-8700 to reserve your spot. \nJoin the Village for hors d’oeuvres\, wine\, and a  live performance by Pianist/ Vocalist Mark Burnell. Hosted by Village Board Member Gail Moss at her home\, the evening is certain to be an event to remember! \n\n  \n\nMark Burnell – Pianist/Vocalist\n\n\n\n\nHailed by the Chicago Tribune as “silky smooth and highly polished” and New York’s Cabaret Hotline as “one of the most talented pianists and arrangers I’ve seen\,” Mark Burnell has worked with Dave Frishberg\, Richie Cole\, Louie Bellson\, Connie Francis\, Howie Mandel\, Ward Swingle\, Laurel Masse\, Laura San Giacomo\, Rob Marshall\, Blair Underwood and Seth Meyers. Mark’s overseas tours have taken him to Paris\, Amsterdam\, Bern\, Zurich\, Geneva\, Lausanne\, Freiburg\, St. Croix and Panama. In 2009 and 2010\, he was an instructor at the International Cabaret Conference at Yale. Mark also taught jazz at Northwestern and Roosevelt Universities\, and trained vocalists for 10 years at Carnegie Mellon University\, where he received his MFA and BFA\, and also directed the CMU Jazz Choir. One of Chicago’s most in demand pianists/music directors\, he leads a jazz trio on Saturdays at the Tortoise Supper Club. In addition to the recordings THIS COULD BE THE START OF SOMETHING BIG\, BLUES IN THE NIGHT\, SUMMER DAYS & DREAMY NIGHTS\, TWO FOR THE ROAD and LITTLE THINGS WE DO TOGETHER with his vocalist wife Anne Burnell\, Mark has four solo recordings: CHRISTMAS PIANO\, a fresh instrumental jazz treatment of holiday music\, GOSPEL PIANO from his 25 years at Gorham United Methodist Church\, AQUACADENCE\, and RIPPLE RHYTHM.
URL:https://thevillagechicago.org/calender-events/cocktail-hour-with-performance-by-pianist-vocalist-mark-burnell/
LOCATION:IL
END:VEVENT
BEGIN:VEVENT
DTSTART;TZID=America/Chicago:20241114T100000
DTEND;TZID=America/Chicago:20241114T110000
DTSTAMP:20260421T050805
CREATED:20240614T194916Z
LAST-MODIFIED:20241111T171543Z
UID:10002440-1731578400-1731582000@thevillagechicago.org
SUMMARY:Weekly Walks around North Pond
DESCRIPTION:Meet in front of North Pond Restaurant (2610 N. Cannon) \nMembers & guests: free \nEnjoy some exercise and conversation every Thursday morning with new and established friends. Path is paved and accessible for those using mobility aids. Walks continue through October. \nNote: Once you RSVP for a North Pond walk\, you will receive weekly reminders moving forward unless otherwise requested.
URL:https://thevillagechicago.org/calender-events/weekly-walks-around-north-pond/2024-11-14/
LOCATION:North Pond Cafe\, 2610 N. Cannon Dr.\, Chicago\, IL\, United States
GEO:41.9298562;'-87.6374395
X-APPLE-STRUCTURED-LOCATION;VALUE=URI;X-ADDRESS=North Pond Cafe 2610 N. Cannon Dr. Chicago IL United States;X-APPLE-RADIUS=500;X-TITLE=2610 N. Cannon Dr.:geo:'-87.6374395,41.9298562
END:VEVENT
BEGIN:VEVENT
DTSTART;TZID=America/Chicago:20241114T170000
DTEND;TZID=America/Chicago:20241114T180000
DTSTAMP:20260421T050806
CREATED:20240418T003227Z
LAST-MODIFIED:20251124T191326Z
UID:10000701-1731603600-1731607200@thevillagechicago.org
SUMMARY:Short Story Intergenerational Discussions
DESCRIPTION:Members & guests–free. To RSVP\, please scroll down. The day before each discussion\, registered attendees will receive a confirmation email with a link to join via Zoom. \nRSVP to Join! This is an ongoing discussion group. After you register\, you will receive weekly emails  with Zoom details and a link to that week’s story. While the group meets weekly\, members and guests are welcome to drop in for one or all discussions. \n 
URL:https://thevillagechicago.org/calender-events/short-story-intergenerational-discussions/2024-11-14/
LOCATION:IL
END:VEVENT
BEGIN:VEVENT
DTSTART;TZID=America/Chicago:20241116T150000
DTEND;TZID=America/Chicago:20241116T160000
DTSTAMP:20260421T050806
CREATED:20240731T211535Z
LAST-MODIFIED:20250904T173029Z
UID:10002776-1731769200-1731772800@thevillagechicago.org
SUMMARY:Saturday Afternoon at the Movies
DESCRIPTION:Members & guests–free \nEvery Saturday afternoon\, join fellow film aficionados of the Village for an in-depth discussion of films new and old\, led by Village member Mel Washburn. Watch the selected film any time–or enjoy the discussion and be persuaded to view it after! \nCheck back for this week’s film! 
URL:https://thevillagechicago.org/calender-events/saturday-afternoon-at-the-movies/2024-11-16/
LOCATION:Zoom\, Chicago\, IL\, United States
GEO:41.8781136;'-87.6297982
END:VEVENT
BEGIN:VEVENT
DTSTART;TZID=America/Chicago:20241116T150000
DTEND;TZID=America/Chicago:20241116T160000
DTSTAMP:20260421T050806
CREATED:20241111T174607Z
LAST-MODIFIED:20241115T193432Z
UID:10001583-1731769200-1731772800@thevillagechicago.org
SUMMARY:Saturday Afternoon at the Movies
DESCRIPTION:Saturday Afternoon at the Movies! Paper Moon (1972) \nSaturday\, November 16\, 3 PM \nLocation: Via Zoom \nMembers & guests: free. \nAvailable on Amazon for $4.29 to rent or $12.99 to buy. \nEvery Saturday afternoon\, join fellow film aficionados of the Village for an in-depth discussion of films new and old\, led by Village member Mel Washburn. Watch the selected film any time–or enjoy the discussion and be persuaded to view it after! \nThis week’s film is Paper Moon (1972) Real-life father and daughter Ryan and Tatum O’Neal (Moses and Addie) team up as con-artists in 1930s Kansas when Moses is unexpectedly saddled with getting 9-year-old Addie to relatives in Missouri after the death of her mother. Along the way\, they con widows\, shopkeepers\, bootleggers\, and each other. Tatum O’Neal received a best supporting actress oscar (still the youngest recipient)\, and Madeline Kahn (a burlesque dancer Moses picks up) was also nominated. Peter Bogdanovich’s first three films (Last Picture Show\, What’s Up Doc\, and Paper Moon) were huge financial and critical successes.
URL:https://thevillagechicago.org/calender-events/saturday-afternoon-at-the-movies-2/
LOCATION:Zoom\, Chicago\, IL\, United States
GEO:41.8781136;'-87.6297982
END:VEVENT
END:VCALENDAR