BEGIN:VCALENDAR
VERSION:2.0
PRODID:-//The Village Chicago - ECPv6.15.20//NONSGML v1.0//EN
CALSCALE:GREGORIAN
METHOD:PUBLISH
X-ORIGINAL-URL:https://thevillagechicago.org
X-WR-CALDESC:Events for The Village Chicago
REFRESH-INTERVAL;VALUE=DURATION:PT1H
X-Robots-Tag:noindex
X-PUBLISHED-TTL:PT1H
BEGIN:VTIMEZONE
TZID:America/Chicago
BEGIN:DAYLIGHT
TZOFFSETFROM:-0600
TZOFFSETTO:-0500
TZNAME:CDT
DTSTART:20250309T080000
END:DAYLIGHT
BEGIN:STANDARD
TZOFFSETFROM:-0500
TZOFFSETTO:-0600
TZNAME:CST
DTSTART:20251102T070000
END:STANDARD
BEGIN:DAYLIGHT
TZOFFSETFROM:-0600
TZOFFSETTO:-0500
TZNAME:CDT
DTSTART:20260308T080000
END:DAYLIGHT
BEGIN:STANDARD
TZOFFSETFROM:-0500
TZOFFSETTO:-0600
TZNAME:CST
DTSTART:20261101T070000
END:STANDARD
BEGIN:DAYLIGHT
TZOFFSETFROM:-0600
TZOFFSETTO:-0500
TZNAME:CDT
DTSTART:20270314T080000
END:DAYLIGHT
BEGIN:STANDARD
TZOFFSETFROM:-0500
TZOFFSETTO:-0600
TZNAME:CST
DTSTART:20271107T070000
END:STANDARD
END:VTIMEZONE
BEGIN:VEVENT
DTSTART;TZID=America/Chicago:20260331T110000
DTEND;TZID=America/Chicago:20260331T120000
DTSTAMP:20260425T071352
CREATED:20260305T223432Z
LAST-MODIFIED:20260305T223618Z
UID:10000590-1774954800-1774958400@thevillagechicago.org
SUMMARY:Brain Spa
DESCRIPTION:Members & guests–free. RSVP below! \nThis is a virtual Zoom session held every other week\, open to anyone who would like to get connected to others\, practice skills and exercise their brain. Join us for puzzles and challenges\, storytelling and reminiscing in a comfortable and casual environment. These sessions will be an hour long and are meant to be fun and interactive. You don’t need to attend all sessions to participate\, feel free to drop in whenever you would like!
URL:https://thevillagechicago.org/calender-events/brain-spa-40/
LOCATION:IL
CATEGORIES:Brain health
END:VEVENT
BEGIN:VEVENT
DTSTART;TZID=America/Chicago:20260401T190000
DTEND;TZID=America/Chicago:20260401T200000
DTSTAMP:20260425T071352
CREATED:20260305T225457Z
LAST-MODIFIED:20260306T182633Z
UID:10001909-1775070000-1775073600@thevillagechicago.org
SUMMARY:Great Books\, Great Conversations
DESCRIPTION:Location: via Zoom\n\n\n\nMembers and guests – Free! \nThis ongoing Village discussion group meets online the first Wednesday of each month to discuss a selection of short readings from an anthology published by The Great Books Foundation. Although the group has been meeting for years\, they are very welcoming to new members! \n“Life of Nicias”\nby Plutarch\n\nReading is in Volume 4\, Great Conversations\n(Book is available for no charge.\nEmail highrenn@aol.com to request a copy)\n\n\n“Why does Plutarch say that Nicias owes his importance to his wealth and prestige rather than his military successes?” \nWar. What is it good for?
URL:https://thevillagechicago.org/calender-events/great-books-great-conversations-19/
LOCATION:Zoom\, Chicago\, IL\, United States
GEO:41.8781136;'-87.6297982
END:VEVENT
BEGIN:VEVENT
DTSTART;TZID=America/Chicago:20260402T100000
DTEND;TZID=America/Chicago:20260402T110000
DTSTAMP:20260425T071352
CREATED:20260219T160056Z
LAST-MODIFIED:20260219T160212Z
UID:10004728-1775124000-1775127600@thevillagechicago.org
SUMMARY:Weekly Walks Around North Pond
DESCRIPTION:Members & guests: free \nThe weekly walks are back! Enjoy some exercise and conversation every Thursday morning with new and established friends. Registrants receive ongoing reminders\, including cancellation notices for inclement weather – no need to register each time. Path is paved and accessible for those using mobility aids. \n 
URL:https://thevillagechicago.org/calender-events/weekly-walks-around-north-pond-37/
LOCATION:Meet in front of North Pond Restaurant\, 2610 N. Cannon Dr\, Chicago\, IL\, United States
CATEGORIES:For your health,Just for fun
GEO:41.9298562;'-87.6374395
X-APPLE-STRUCTURED-LOCATION;VALUE=URI;X-ADDRESS=Meet in front of North Pond Restaurant 2610 N. Cannon Dr Chicago IL United States;X-APPLE-RADIUS=500;X-TITLE=2610 N. Cannon Dr:geo:'-87.6374395,41.9298562
END:VEVENT
BEGIN:VEVENT
DTSTART;TZID=America/Chicago:20260402T150000
DTEND;TZID=America/Chicago:20260402T163000
DTSTAMP:20260425T071352
CREATED:20260204T152517Z
LAST-MODIFIED:20260206T181631Z
UID:10004714-1775142000-1775147400@thevillagechicago.org
SUMMARY:Memoir Workshop: From Memory to Story
DESCRIPTION:A six week series\nThursdays from 3-4:30pm\nMembers: $60. Non-members: $90 (click here to register)\nDo you have stories you’ve been meaning to write down\, but aren’t sure how to start? This memoir class uses guided prompts to generate new material\, short mini-lessons on craft\, and easy revision tools that show what’s working and what to strengthen. Sharing is always optional. By the end\, you’ll have a small portfolio of revised\, reader-ready pieces plus a practical method you can use anytime to turn memory into story.\n\nThe full list of dates are March 12\, 19\, 26; April 2\, 9\, 16\n\nSpace is limited – register now!
URL:https://thevillagechicago.org/calender-events/memoir-workshop-from-memory-to-story/2026-04-02/
LOCATION:The Village Chicago Office\, 2502 N Clark\, Chicago\, United States
CATEGORIES:The arts
GEO:41.927842;-87.642067
X-APPLE-STRUCTURED-LOCATION;VALUE=URI;X-ADDRESS=The Village Chicago Office 2502 N Clark Chicago United States;X-APPLE-RADIUS=500;X-TITLE=2502 N Clark:geo:-87.642067,41.927842
END:VEVENT
BEGIN:VEVENT
DTSTART;TZID=America/Chicago:20260402T170000
DTEND;TZID=America/Chicago:20260402T180000
DTSTAMP:20260425T071352
CREATED:20260401T202728Z
LAST-MODIFIED:20260401T202742Z
UID:10003264-1775149200-1775152800@thevillagechicago.org
SUMMARY:Short Story Intergenerational Discussions
DESCRIPTION:Members & guests–free. To RSVP\, please scroll down. The day before each discussion\, registered attendees will receive a confirmation email with a link to join via Zoom. \nRSVP to Join! This is an ongoing discussion group. After you register\, you will receive weekly emails  with Zoom details and a link to that week’s story. While the group meets weekly\, members and guests are welcome to drop in for one or all discussions. \n  \nThere is no meeting this week. \n 
URL:https://thevillagechicago.org/calender-events/short-story-intergenerational-discussions-76/
LOCATION:IL
END:VEVENT
BEGIN:VEVENT
DTSTART;TZID=America/Chicago:20260404T150000
DTEND;TZID=America/Chicago:20260404T160000
DTSTAMP:20260425T071352
CREATED:20260403T131030Z
LAST-MODIFIED:20260403T131543Z
UID:10004057-1775314800-1775318400@thevillagechicago.org
SUMMARY:Saturday Afternoon at the Movies
DESCRIPTION:  \nMembers & guests–free \nEvery Saturday afternoon\, join fellow film aficionados of the Village for an in-depth organic discussion of films new and old. Watch the selected film any time–or enjoy the discussion and be persuaded to view it after! \nEasy A: 2010\, 93min\, On Amazon & others $4\n\nEmma Stone\, before 2010\, did several films (Superbad\, Zombieland)\, but she burst onto the scene in Easy A\, much like her character Olive. A smart\, entertaining highschool movie about what happens to a small lie in the day and age of cellphones and social media. Yes\, the “A” refers to the Scarlet Letter. Great\, enjoyable supporting roles include Stanley Tucci\, Patricia Clarkson\, Thomas Hayden Church\, Lisa Kudrow. Enjoy!\n\n\n 
URL:https://thevillagechicago.org/calender-events/saturday-afternoon-at-the-movies-98/
LOCATION:Zoom\, Chicago\, IL\, United States
GEO:41.8781136;'-87.6297982
END:VEVENT
END:VCALENDAR