BEGIN:VCALENDAR
VERSION:2.0
PRODID:-//The Village Chicago - ECPv6.15.20//NONSGML v1.0//EN
CALSCALE:GREGORIAN
METHOD:PUBLISH
X-WR-CALNAME:The Village Chicago
X-ORIGINAL-URL:https://thevillagechicago.org
X-WR-CALDESC:Events for The Village Chicago
REFRESH-INTERVAL;VALUE=DURATION:PT1H
X-Robots-Tag:noindex
X-PUBLISHED-TTL:PT1H
BEGIN:VTIMEZONE
TZID:America/Chicago
BEGIN:DAYLIGHT
TZOFFSETFROM:-0600
TZOFFSETTO:-0500
TZNAME:CDT
DTSTART:20240310T080000
END:DAYLIGHT
BEGIN:STANDARD
TZOFFSETFROM:-0500
TZOFFSETTO:-0600
TZNAME:CST
DTSTART:20241103T070000
END:STANDARD
BEGIN:DAYLIGHT
TZOFFSETFROM:-0600
TZOFFSETTO:-0500
TZNAME:CDT
DTSTART:20250309T080000
END:DAYLIGHT
BEGIN:STANDARD
TZOFFSETFROM:-0500
TZOFFSETTO:-0600
TZNAME:CST
DTSTART:20251102T070000
END:STANDARD
BEGIN:DAYLIGHT
TZOFFSETFROM:-0600
TZOFFSETTO:-0500
TZNAME:CDT
DTSTART:20260308T080000
END:DAYLIGHT
BEGIN:STANDARD
TZOFFSETFROM:-0500
TZOFFSETTO:-0600
TZNAME:CST
DTSTART:20261101T070000
END:STANDARD
END:VTIMEZONE
BEGIN:VEVENT
DTSTART;TZID=America/Chicago:20250403T160000
DTEND;TZID=America/Chicago:20250403T164500
DTSTAMP:20260423T065633
CREATED:20250306T200323Z
LAST-MODIFIED:20250314T203056Z
UID:5213-1743696000-1743698700@thevillagechicago.org
SUMMARY:Guided Tour of mHub
DESCRIPTION:Please register each person individually. Please note you must register separately for the self-hosted dinner. \n  \nLocation: mHub (1623 W Fulton)\nMembers & guests: Free.\nDinner after the tour: self-hosted The Greek Islands restaurant (200 S Halsted) \nJoin the Life 3.0 Committee for a 45 minute guided tour of mHub\, Chicago’s hardtech\nincubator. As a part of our committee’s continuing series to visit interesting places in\nthe city and suburbs\, we have organized this brief and exciting tour of mHub’s new\nthree story facility at 1623 West Fulton\, (Ashland and Fulton). The facility is filled with\nstate-of-the-art rapid prototyping\, 3-D printing and computer-controlled manufacturing\nequipment along with workspaces for companies. (https://www.mHubChicago.com) \nmHub was created in 2017 to answer the need of start-ups wanting to create physical\nobjects to solve some of society’s major problems in manufacturing\, clean technologies\nand medical devices. Village member David Baker helped with the early development\nof mHub\, serving on the original board of directors. \nFree parking is available on a “first come first served” basis in the mHub parking lot\,\nentrance on Fulton St.\, behind the building. \nWe will drive to a self hosted dinner at The Greek Islands restaurant for an early dinner\nafter the tour. Free valet parking is available at the Greek Islands. \n 
URL:https://thevillagechicago.org/calender-events/guided-tour-of-mhub/
LOCATION:mhub\, 1623 W Fulton St\, Chicago\, IL\, 60612\, United States
GEO:41.9251393;-87.6692395
X-APPLE-STRUCTURED-LOCATION;VALUE=URI;X-ADDRESS=mhub 1623 W Fulton St Chicago IL 60612 United States;X-APPLE-RADIUS=500;X-TITLE=1623 W Fulton St:geo:-87.6692395,41.9251393
END:VEVENT
END:VCALENDAR