BEGIN:VCALENDAR
VERSION:2.0
PRODID:-//The Village Chicago - ECPv6.15.20//NONSGML v1.0//EN
CALSCALE:GREGORIAN
METHOD:PUBLISH
X-WR-CALNAME:The Village Chicago
X-ORIGINAL-URL:https://thevillagechicago.org
X-WR-CALDESC:Events for The Village Chicago
REFRESH-INTERVAL;VALUE=DURATION:PT1H
X-Robots-Tag:noindex
X-PUBLISHED-TTL:PT1H
BEGIN:VTIMEZONE
TZID:America/Chicago
BEGIN:DAYLIGHT
TZOFFSETFROM:-0600
TZOFFSETTO:-0500
TZNAME:CDT
DTSTART:20240310T080000
END:DAYLIGHT
BEGIN:STANDARD
TZOFFSETFROM:-0500
TZOFFSETTO:-0600
TZNAME:CST
DTSTART:20241103T070000
END:STANDARD
BEGIN:DAYLIGHT
TZOFFSETFROM:-0600
TZOFFSETTO:-0500
TZNAME:CDT
DTSTART:20250309T080000
END:DAYLIGHT
BEGIN:STANDARD
TZOFFSETFROM:-0500
TZOFFSETTO:-0600
TZNAME:CST
DTSTART:20251102T070000
END:STANDARD
BEGIN:DAYLIGHT
TZOFFSETFROM:-0600
TZOFFSETTO:-0500
TZNAME:CDT
DTSTART:20260308T080000
END:DAYLIGHT
BEGIN:STANDARD
TZOFFSETFROM:-0500
TZOFFSETTO:-0600
TZNAME:CST
DTSTART:20261101T070000
END:STANDARD
END:VTIMEZONE
BEGIN:VEVENT
DTSTART;TZID=America/Chicago:20250417T110000
DTEND;TZID=America/Chicago:20250417T120000
DTSTAMP:20260423T124314
CREATED:20250313T161547Z
LAST-MODIFIED:20250314T174419Z
UID:5324-1744887600-1744891200@thevillagechicago.org
SUMMARY:MacTutor: Apple’s New Passwords App: Passkeys\, Verification Codes and More
DESCRIPTION:Members & guests: $15 (click here to register)\nLocation Via Zoom\n\n\nAre your passwords scattered among multiple web browsers\, dedicated utilities\, the Notes app and a plethora of paper stickies hanging from the edges of your computer screen? Believe me\, better ways exist to store — and easily recall — all of that sensitive information.\n\nOur instructor\, Mr. Joe Daddezio\, formerly of Apple Inc.\, was born and raised in Lincoln Park. During his career as The MacTutor\, Joe has helped thousands of folks get more from their Mac\, iPhone\, and iPad.
URL:https://thevillagechicago.org/calender-events/mactutor-apples-new-passwords-app-passkeys-verification-codes-and-more/
END:VEVENT
END:VCALENDAR