BEGIN:VCALENDAR
VERSION:2.0
PRODID:-//The Village Chicago - ECPv6.15.20//NONSGML v1.0//EN
CALSCALE:GREGORIAN
METHOD:PUBLISH
X-WR-CALNAME:The Village Chicago
X-ORIGINAL-URL:https://thevillagechicago.org
X-WR-CALDESC:Events for The Village Chicago
REFRESH-INTERVAL;VALUE=DURATION:PT1H
X-Robots-Tag:noindex
X-PUBLISHED-TTL:PT1H
BEGIN:VTIMEZONE
TZID:America/Chicago
BEGIN:DAYLIGHT
TZOFFSETFROM:-0600
TZOFFSETTO:-0500
TZNAME:CDT
DTSTART:20230312T080000
END:DAYLIGHT
BEGIN:STANDARD
TZOFFSETFROM:-0500
TZOFFSETTO:-0600
TZNAME:CST
DTSTART:20231105T070000
END:STANDARD
BEGIN:DAYLIGHT
TZOFFSETFROM:-0600
TZOFFSETTO:-0500
TZNAME:CDT
DTSTART:20240310T080000
END:DAYLIGHT
BEGIN:STANDARD
TZOFFSETFROM:-0500
TZOFFSETTO:-0600
TZNAME:CST
DTSTART:20241103T070000
END:STANDARD
BEGIN:DAYLIGHT
TZOFFSETFROM:-0600
TZOFFSETTO:-0500
TZNAME:CDT
DTSTART:20250309T080000
END:DAYLIGHT
BEGIN:STANDARD
TZOFFSETFROM:-0500
TZOFFSETTO:-0600
TZNAME:CST
DTSTART:20251102T070000
END:STANDARD
END:VTIMEZONE
BEGIN:VEVENT
DTSTART;TZID=America/Chicago:20241109T103000
DTEND;TZID=America/Chicago:20241109T120000
DTSTAMP:20260425T071624
CREATED:20241008T153434Z
LAST-MODIFIED:20241008T154520Z
UID:3378-1731148200-1731153600@thevillagechicago.org
SUMMARY:Pagoda Red Tour
DESCRIPTION:Presented by The Life 3.0 Committee\n\n\nLocation: Pagoda Red (1740 W. Webster) \nMembers and guests:  Free; Lunch\, self-hosted \nPagoda Red is extraordinary.  The gallery celebrates the handmade in all its beautiful perfection and imperfection\, from historic China and modern Europe to contemporary American artists\, featuring furniture\, paintings\, sculpture\, textiles and other remarkable artistic creations.  Owner Betsy Nathan\, daughter of renowned Chicago gallerist Ann Nathan\, will guide us through the warehouse\, photo studio\, shipping area and more.  Please join us for a self-hosted lunch after the tour. This event is accessible. \nCarpooling is recommended for this event. Please email Jessica@thevillagechicago.org if you are interested in being a driver or would like to ride in a carpool for this event.
URL:https://thevillagechicago.org/calender-events/pagoda-red-tour/
LOCATION:Pagoda Red\, 1740 W Webster Ave\, Chicago\, 60614\, United States
END:VEVENT
END:VCALENDAR