BEGIN:VCALENDAR
VERSION:2.0
PRODID:-//The Village Chicago - ECPv6.15.20//NONSGML v1.0//EN
CALSCALE:GREGORIAN
METHOD:PUBLISH
X-WR-CALNAME:The Village Chicago
X-ORIGINAL-URL:https://thevillagechicago.org
X-WR-CALDESC:Events for The Village Chicago
REFRESH-INTERVAL;VALUE=DURATION:PT1H
X-Robots-Tag:noindex
X-PUBLISHED-TTL:PT1H
BEGIN:VTIMEZONE
TZID:America/Chicago
BEGIN:DAYLIGHT
TZOFFSETFROM:-0600
TZOFFSETTO:-0500
TZNAME:CDT
DTSTART:20240310T080000
END:DAYLIGHT
BEGIN:STANDARD
TZOFFSETFROM:-0500
TZOFFSETTO:-0600
TZNAME:CST
DTSTART:20241103T070000
END:STANDARD
BEGIN:DAYLIGHT
TZOFFSETFROM:-0600
TZOFFSETTO:-0500
TZNAME:CDT
DTSTART:20250309T080000
END:DAYLIGHT
BEGIN:STANDARD
TZOFFSETFROM:-0500
TZOFFSETTO:-0600
TZNAME:CST
DTSTART:20251102T070000
END:STANDARD
BEGIN:DAYLIGHT
TZOFFSETFROM:-0600
TZOFFSETTO:-0500
TZNAME:CDT
DTSTART:20260308T080000
END:DAYLIGHT
BEGIN:STANDARD
TZOFFSETFROM:-0500
TZOFFSETTO:-0600
TZNAME:CST
DTSTART:20261101T070000
END:STANDARD
END:VTIMEZONE
BEGIN:VEVENT
DTSTART;TZID=America/Chicago:20250624T130000
DTEND;TZID=America/Chicago:20250624T143000
DTSTAMP:20260423T101413
CREATED:20250529T152316Z
LAST-MODIFIED:20250623T125214Z
UID:10003931-1750770000-1750775400@thevillagechicago.org
SUMMARY:Solo Ager Meet Up
DESCRIPTION:Online registration for this event is now closed. Please call 773.248.8700 or email info@thevillagechicago.org to register. Thank you. \n  \nPlease join us at our Solo Agers Meet Up at Brookdale Lake Shore Drive (2960 N Lake Shore Dr). We will have the opportunity to get to know one another better and brainstorm ideas for future events. \nFor those that have not attended previous Solo Agers’ events\, “Solo Agers” refers to people who are making decisions independently or who have a limited support system. This may include a number of different situations\, and all are welcome at these events. The group intends to convene routinely to get to know one another\, as well as to coordinate and attend expert sessions such as legal or informational etc. that apply to our specific situations. \nWe will have light hors d’oeuvres\, beverages and plenty of time to get to know one another. Hope to see you there!
URL:https://thevillagechicago.org/calender-events/solo-agers-meet-up-3/
LOCATION:Brookdale Lake Shore Drive\, 2960 N Lake Shore Dr\, Chicago\, IL\, 60657\, United States
GEO:41.9360138;'-87.6374234
X-APPLE-STRUCTURED-LOCATION;VALUE=URI;X-ADDRESS=Brookdale Lake Shore Drive 2960 N Lake Shore Dr Chicago IL 60657 United States;X-APPLE-RADIUS=500;X-TITLE=2960 N Lake Shore Dr:geo:'-87.6374234,41.9360138
END:VEVENT
END:VCALENDAR