BEGIN:VCALENDAR
VERSION:2.0
PRODID:-//The Village Chicago - ECPv6.15.20//NONSGML v1.0//EN
CALSCALE:GREGORIAN
METHOD:PUBLISH
X-ORIGINAL-URL:https://thevillagechicago.org
X-WR-CALDESC:Events for The Village Chicago
REFRESH-INTERVAL;VALUE=DURATION:PT1H
X-Robots-Tag:noindex
X-PUBLISHED-TTL:PT1H
BEGIN:VTIMEZONE
TZID:America/Chicago
BEGIN:DAYLIGHT
TZOFFSETFROM:-0600
TZOFFSETTO:-0500
TZNAME:CDT
DTSTART:20230312T080000
END:DAYLIGHT
BEGIN:STANDARD
TZOFFSETFROM:-0500
TZOFFSETTO:-0600
TZNAME:CST
DTSTART:20231105T070000
END:STANDARD
BEGIN:DAYLIGHT
TZOFFSETFROM:-0600
TZOFFSETTO:-0500
TZNAME:CDT
DTSTART:20240310T080000
END:DAYLIGHT
BEGIN:STANDARD
TZOFFSETFROM:-0500
TZOFFSETTO:-0600
TZNAME:CST
DTSTART:20241103T070000
END:STANDARD
BEGIN:DAYLIGHT
TZOFFSETFROM:-0600
TZOFFSETTO:-0500
TZNAME:CDT
DTSTART:20250309T080000
END:DAYLIGHT
BEGIN:STANDARD
TZOFFSETFROM:-0500
TZOFFSETTO:-0600
TZNAME:CST
DTSTART:20251102T070000
END:STANDARD
END:VTIMEZONE
BEGIN:VEVENT
DTSTART;TZID=America/Chicago:20240912T100000
DTEND;TZID=America/Chicago:20240912T110000
DTSTAMP:20260421T052416
CREATED:20240614T194916Z
LAST-MODIFIED:20241111T171543Z
UID:10000944-1726135200-1726138800@thevillagechicago.org
SUMMARY:Weekly Walks around North Pond
DESCRIPTION:Meet in front of North Pond Restaurant (2610 N. Cannon) \nMembers & guests: free \nEnjoy some exercise and conversation every Thursday morning with new and established friends. Path is paved and accessible for those using mobility aids. Walks continue through October. \nNote: Once you RSVP for a North Pond walk\, you will receive weekly reminders moving forward unless otherwise requested.
URL:https://thevillagechicago.org/calender-events/weekly-walks-around-north-pond/2024-09-12/
LOCATION:North Pond Cafe\, 2610 N. Cannon Dr.\, Chicago\, IL\, United States
GEO:41.9298562;'-87.6374395
X-APPLE-STRUCTURED-LOCATION;VALUE=URI;X-ADDRESS=North Pond Cafe 2610 N. Cannon Dr. Chicago IL United States;X-APPLE-RADIUS=500;X-TITLE=2610 N. Cannon Dr.:geo:'-87.6374395,41.9298562
END:VEVENT
BEGIN:VEVENT
DTSTART;TZID=America/Chicago:20240905T100000
DTEND;TZID=America/Chicago:20240905T110000
DTSTAMP:20260421T052416
CREATED:20240614T194916Z
LAST-MODIFIED:20241111T171543Z
UID:10000943-1725530400-1725534000@thevillagechicago.org
SUMMARY:Weekly Walks around North Pond
DESCRIPTION:Meet in front of North Pond Restaurant (2610 N. Cannon) \nMembers & guests: free \nEnjoy some exercise and conversation every Thursday morning with new and established friends. Path is paved and accessible for those using mobility aids. Walks continue through October. \nNote: Once you RSVP for a North Pond walk\, you will receive weekly reminders moving forward unless otherwise requested.
URL:https://thevillagechicago.org/calender-events/weekly-walks-around-north-pond/2024-09-05/
LOCATION:North Pond Cafe\, 2610 N. Cannon Dr.\, Chicago\, IL\, United States
GEO:41.9298562;'-87.6374395
X-APPLE-STRUCTURED-LOCATION;VALUE=URI;X-ADDRESS=North Pond Cafe 2610 N. Cannon Dr. Chicago IL United States;X-APPLE-RADIUS=500;X-TITLE=2610 N. Cannon Dr.:geo:'-87.6374395,41.9298562
END:VEVENT
BEGIN:VEVENT
DTSTART;TZID=America/Chicago:20240829T100000
DTEND;TZID=America/Chicago:20240829T110000
DTSTAMP:20260421T052416
CREATED:20240614T194916Z
LAST-MODIFIED:20241111T171543Z
UID:10000942-1724925600-1724929200@thevillagechicago.org
SUMMARY:Weekly Walks around North Pond
DESCRIPTION:Meet in front of North Pond Restaurant (2610 N. Cannon) \nMembers & guests: free \nEnjoy some exercise and conversation every Thursday morning with new and established friends. Path is paved and accessible for those using mobility aids. Walks continue through October. \nNote: Once you RSVP for a North Pond walk\, you will receive weekly reminders moving forward unless otherwise requested.
URL:https://thevillagechicago.org/calender-events/weekly-walks-around-north-pond/2024-08-29/
LOCATION:North Pond Cafe\, 2610 N. Cannon Dr.\, Chicago\, IL\, United States
GEO:41.9298562;'-87.6374395
X-APPLE-STRUCTURED-LOCATION;VALUE=URI;X-ADDRESS=North Pond Cafe 2610 N. Cannon Dr. Chicago IL United States;X-APPLE-RADIUS=500;X-TITLE=2610 N. Cannon Dr.:geo:'-87.6374395,41.9298562
END:VEVENT
BEGIN:VEVENT
DTSTART;TZID=America/Chicago:20240822T100000
DTEND;TZID=America/Chicago:20240822T110000
DTSTAMP:20260421T052416
CREATED:20240614T194916Z
LAST-MODIFIED:20241111T171543Z
UID:10000941-1724320800-1724324400@thevillagechicago.org
SUMMARY:Weekly Walks around North Pond
DESCRIPTION:Meet in front of North Pond Restaurant (2610 N. Cannon) \nMembers & guests: free \nEnjoy some exercise and conversation every Thursday morning with new and established friends. Path is paved and accessible for those using mobility aids. Walks continue through October. \nNote: Once you RSVP for a North Pond walk\, you will receive weekly reminders moving forward unless otherwise requested.
URL:https://thevillagechicago.org/calender-events/weekly-walks-around-north-pond/2024-08-22/
LOCATION:North Pond Cafe\, 2610 N. Cannon Dr.\, Chicago\, IL\, United States
GEO:41.9298562;'-87.6374395
X-APPLE-STRUCTURED-LOCATION;VALUE=URI;X-ADDRESS=North Pond Cafe 2610 N. Cannon Dr. Chicago IL United States;X-APPLE-RADIUS=500;X-TITLE=2610 N. Cannon Dr.:geo:'-87.6374395,41.9298562
END:VEVENT
BEGIN:VEVENT
DTSTART;TZID=America/Chicago:20240815T100000
DTEND;TZID=America/Chicago:20240815T110000
DTSTAMP:20260421T052416
CREATED:20240614T194916Z
LAST-MODIFIED:20241111T171543Z
UID:10000940-1723716000-1723719600@thevillagechicago.org
SUMMARY:Weekly Walks around North Pond
DESCRIPTION:Meet in front of North Pond Restaurant (2610 N. Cannon) \nMembers & guests: free \nEnjoy some exercise and conversation every Thursday morning with new and established friends. Path is paved and accessible for those using mobility aids. Walks continue through October. \nNote: Once you RSVP for a North Pond walk\, you will receive weekly reminders moving forward unless otherwise requested.
URL:https://thevillagechicago.org/calender-events/weekly-walks-around-north-pond/2024-08-15/
LOCATION:North Pond Cafe\, 2610 N. Cannon Dr.\, Chicago\, IL\, United States
GEO:41.9298562;'-87.6374395
X-APPLE-STRUCTURED-LOCATION;VALUE=URI;X-ADDRESS=North Pond Cafe 2610 N. Cannon Dr. Chicago IL United States;X-APPLE-RADIUS=500;X-TITLE=2610 N. Cannon Dr.:geo:'-87.6374395,41.9298562
END:VEVENT
BEGIN:VEVENT
DTSTART;TZID=America/Chicago:20240808T100000
DTEND;TZID=America/Chicago:20240808T110000
DTSTAMP:20260421T052416
CREATED:20240614T194916Z
LAST-MODIFIED:20241111T171543Z
UID:10000939-1723111200-1723114800@thevillagechicago.org
SUMMARY:Weekly Walks around North Pond
DESCRIPTION:Meet in front of North Pond Restaurant (2610 N. Cannon) \nMembers & guests: free \nEnjoy some exercise and conversation every Thursday morning with new and established friends. Path is paved and accessible for those using mobility aids. Walks continue through October. \nNote: Once you RSVP for a North Pond walk\, you will receive weekly reminders moving forward unless otherwise requested.
URL:https://thevillagechicago.org/calender-events/weekly-walks-around-north-pond/2024-08-08/
LOCATION:North Pond Cafe\, 2610 N. Cannon Dr.\, Chicago\, IL\, United States
GEO:41.9298562;'-87.6374395
X-APPLE-STRUCTURED-LOCATION;VALUE=URI;X-ADDRESS=North Pond Cafe 2610 N. Cannon Dr. Chicago IL United States;X-APPLE-RADIUS=500;X-TITLE=2610 N. Cannon Dr.:geo:'-87.6374395,41.9298562
END:VEVENT
BEGIN:VEVENT
DTSTART;TZID=America/Chicago:20240801T100000
DTEND;TZID=America/Chicago:20240801T110000
DTSTAMP:20260421T052416
CREATED:20240614T194916Z
LAST-MODIFIED:20241111T171543Z
UID:10000938-1722506400-1722510000@thevillagechicago.org
SUMMARY:Weekly Walks around North Pond
DESCRIPTION:Meet in front of North Pond Restaurant (2610 N. Cannon) \nMembers & guests: free \nEnjoy some exercise and conversation every Thursday morning with new and established friends. Path is paved and accessible for those using mobility aids. Walks continue through October. \nNote: Once you RSVP for a North Pond walk\, you will receive weekly reminders moving forward unless otherwise requested.
URL:https://thevillagechicago.org/calender-events/weekly-walks-around-north-pond/2024-08-01/
LOCATION:North Pond Cafe\, 2610 N. Cannon Dr.\, Chicago\, IL\, United States
GEO:41.9298562;'-87.6374395
X-APPLE-STRUCTURED-LOCATION;VALUE=URI;X-ADDRESS=North Pond Cafe 2610 N. Cannon Dr. Chicago IL United States;X-APPLE-RADIUS=500;X-TITLE=2610 N. Cannon Dr.:geo:'-87.6374395,41.9298562
END:VEVENT
BEGIN:VEVENT
DTSTART;TZID=America/Chicago:20240725T100000
DTEND;TZID=America/Chicago:20240725T110000
DTSTAMP:20260421T052416
CREATED:20240614T194916Z
LAST-MODIFIED:20241111T171543Z
UID:10000937-1721901600-1721905200@thevillagechicago.org
SUMMARY:Weekly Walks around North Pond
DESCRIPTION:Meet in front of North Pond Restaurant (2610 N. Cannon) \nMembers & guests: free \nEnjoy some exercise and conversation every Thursday morning with new and established friends. Path is paved and accessible for those using mobility aids. Walks continue through October. \nNote: Once you RSVP for a North Pond walk\, you will receive weekly reminders moving forward unless otherwise requested.
URL:https://thevillagechicago.org/calender-events/weekly-walks-around-north-pond/2024-07-25/
LOCATION:North Pond Cafe\, 2610 N. Cannon Dr.\, Chicago\, IL\, United States
GEO:41.9298562;'-87.6374395
X-APPLE-STRUCTURED-LOCATION;VALUE=URI;X-ADDRESS=North Pond Cafe 2610 N. Cannon Dr. Chicago IL United States;X-APPLE-RADIUS=500;X-TITLE=2610 N. Cannon Dr.:geo:'-87.6374395,41.9298562
END:VEVENT
BEGIN:VEVENT
DTSTART;TZID=America/Chicago:20240718T100000
DTEND;TZID=America/Chicago:20240718T110000
DTSTAMP:20260421T052416
CREATED:20240614T194916Z
LAST-MODIFIED:20241111T171543Z
UID:10000936-1721296800-1721300400@thevillagechicago.org
SUMMARY:Weekly Walks around North Pond
DESCRIPTION:Meet in front of North Pond Restaurant (2610 N. Cannon) \nMembers & guests: free \nEnjoy some exercise and conversation every Thursday morning with new and established friends. Path is paved and accessible for those using mobility aids. Walks continue through October. \nNote: Once you RSVP for a North Pond walk\, you will receive weekly reminders moving forward unless otherwise requested.
URL:https://thevillagechicago.org/calender-events/weekly-walks-around-north-pond/2024-07-18/
LOCATION:North Pond Cafe\, 2610 N. Cannon Dr.\, Chicago\, IL\, United States
GEO:41.9298562;'-87.6374395
X-APPLE-STRUCTURED-LOCATION;VALUE=URI;X-ADDRESS=North Pond Cafe 2610 N. Cannon Dr. Chicago IL United States;X-APPLE-RADIUS=500;X-TITLE=2610 N. Cannon Dr.:geo:'-87.6374395,41.9298562
END:VEVENT
BEGIN:VEVENT
DTSTART;TZID=America/Chicago:20240711T100000
DTEND;TZID=America/Chicago:20240711T110000
DTSTAMP:20260421T052416
CREATED:20240614T194916Z
LAST-MODIFIED:20241111T171543Z
UID:10000935-1720692000-1720695600@thevillagechicago.org
SUMMARY:Weekly Walks around North Pond
DESCRIPTION:Meet in front of North Pond Restaurant (2610 N. Cannon) \nMembers & guests: free \nEnjoy some exercise and conversation every Thursday morning with new and established friends. Path is paved and accessible for those using mobility aids. Walks continue through October. \nNote: Once you RSVP for a North Pond walk\, you will receive weekly reminders moving forward unless otherwise requested.
URL:https://thevillagechicago.org/calender-events/weekly-walks-around-north-pond/2024-07-11/
LOCATION:North Pond Cafe\, 2610 N. Cannon Dr.\, Chicago\, IL\, United States
GEO:41.9298562;'-87.6374395
X-APPLE-STRUCTURED-LOCATION;VALUE=URI;X-ADDRESS=North Pond Cafe 2610 N. Cannon Dr. Chicago IL United States;X-APPLE-RADIUS=500;X-TITLE=2610 N. Cannon Dr.:geo:'-87.6374395,41.9298562
END:VEVENT
BEGIN:VEVENT
DTSTART;TZID=America/Chicago:20240704T100000
DTEND;TZID=America/Chicago:20240704T110000
DTSTAMP:20260421T052416
CREATED:20240614T194916Z
LAST-MODIFIED:20241111T171543Z
UID:10000934-1720087200-1720090800@thevillagechicago.org
SUMMARY:Weekly Walks around North Pond
DESCRIPTION:Meet in front of North Pond Restaurant (2610 N. Cannon) \nMembers & guests: free \nEnjoy some exercise and conversation every Thursday morning with new and established friends. Path is paved and accessible for those using mobility aids. Walks continue through October. \nNote: Once you RSVP for a North Pond walk\, you will receive weekly reminders moving forward unless otherwise requested.
URL:https://thevillagechicago.org/calender-events/weekly-walks-around-north-pond/2024-07-04/
LOCATION:North Pond Cafe\, 2610 N. Cannon Dr.\, Chicago\, IL\, United States
GEO:41.9298562;'-87.6374395
X-APPLE-STRUCTURED-LOCATION;VALUE=URI;X-ADDRESS=North Pond Cafe 2610 N. Cannon Dr. Chicago IL United States;X-APPLE-RADIUS=500;X-TITLE=2610 N. Cannon Dr.:geo:'-87.6374395,41.9298562
END:VEVENT
BEGIN:VEVENT
DTSTART;TZID=America/Chicago:20240627T100000
DTEND;TZID=America/Chicago:20240627T110000
DTSTAMP:20260421T052416
CREATED:20240614T194916Z
LAST-MODIFIED:20241111T171543Z
UID:10000933-1719482400-1719486000@thevillagechicago.org
SUMMARY:Weekly Walks around North Pond
DESCRIPTION:Meet in front of North Pond Restaurant (2610 N. Cannon) \nMembers & guests: free \nEnjoy some exercise and conversation every Thursday morning with new and established friends. Path is paved and accessible for those using mobility aids. Walks continue through October. \nNote: Once you RSVP for a North Pond walk\, you will receive weekly reminders moving forward unless otherwise requested.
URL:https://thevillagechicago.org/calender-events/weekly-walks-around-north-pond/2024-06-27/
LOCATION:North Pond Cafe\, 2610 N. Cannon Dr.\, Chicago\, IL\, United States
GEO:41.9298562;'-87.6374395
X-APPLE-STRUCTURED-LOCATION;VALUE=URI;X-ADDRESS=North Pond Cafe 2610 N. Cannon Dr. Chicago IL United States;X-APPLE-RADIUS=500;X-TITLE=2610 N. Cannon Dr.:geo:'-87.6374395,41.9298562
END:VEVENT
BEGIN:VEVENT
DTSTART;TZID=America/Chicago:20240620T100000
DTEND;TZID=America/Chicago:20240620T110000
DTSTAMP:20260421T052416
CREATED:20240614T194916Z
LAST-MODIFIED:20241111T171543Z
UID:10000932-1718877600-1718881200@thevillagechicago.org
SUMMARY:Weekly Walks around North Pond
DESCRIPTION:Meet in front of North Pond Restaurant (2610 N. Cannon) \nMembers & guests: free \nEnjoy some exercise and conversation every Thursday morning with new and established friends. Path is paved and accessible for those using mobility aids. Walks continue through October. \nNote: Once you RSVP for a North Pond walk\, you will receive weekly reminders moving forward unless otherwise requested.
URL:https://thevillagechicago.org/calender-events/weekly-walks-around-north-pond/2024-06-20/
LOCATION:North Pond Cafe\, 2610 N. Cannon Dr.\, Chicago\, IL\, United States
GEO:41.9298562;'-87.6374395
X-APPLE-STRUCTURED-LOCATION;VALUE=URI;X-ADDRESS=North Pond Cafe 2610 N. Cannon Dr. Chicago IL United States;X-APPLE-RADIUS=500;X-TITLE=2610 N. Cannon Dr.:geo:'-87.6374395,41.9298562
END:VEVENT
END:VCALENDAR